Workbook

Sheet 1. Innledning
A1: Risikovurdering
A3: Enhet:
A4: Dato:
A5: Versjon:
A6: Ansvarlig leder:
A7: Fasilitator:
A8: Deltagere:
A9: Formål:
A10: Avgrensning:
A11: Beskrivelse av objektet for risikovurderingen:
A12: Metode: | B12: Metoden for risikovurderingen er basert på risikovurderingsstandarden NS 5814. Denne risikovurderingen fokuserer utelukkende på risikoer som påvirker menneskers liv og helse.
A13: Gjennomføring:
A14: Medvirkning:
A15: Kommentar:

Sheet 2. Kategorier
A1: Kategorier for sannsynlighet og konsekvens
A3: Ved vurderingen av risiko har vi bruk de følgende kategoriene for å beskrive sannsynlighet og konsekvens.
A5: Konsekvenser
A6: Konsekvens | B6: Beskrivelse av konsekvensene
A7: =Lister!D1 -> Svært lav | B7: Ingen fysiske eller psykiske skader
A8: =Lister!D2 -> Lav | B8: Få eller små fyskiske eller psykiske skader Uønsket stress. Kan medføre korttids sykefravær og/eller krever lokale tiltak for å forbedre arbeidsforhold
A9: =Lister!D3 -> Middels | B9: Alvorlige fysiske eller psykiske skader Uønsket stress som gir langtidsfravær og/eller krever tiltak for å forbedre arbeidsforhold Enkelte slutter i jobben på grunn av arbeidsmiljø (turn-over)
A10: =Lister!D4 -> Høy | B10: Kritiske fysiske eller psykiske skader som kan gi varige mén Redsel, angst, utrygghet Langtidsfravær/uførhet Flere slutter i jobben på grunn av arbeidsmiljø (turn-over)
A11: =Lister!D5 -> Svært høy | B11: Dødsfall
A14: Sannsynligheter
A15: Sannsynlighet | B15: Hvor sannsynlig er det at det skjer i løpet av et år
A16: =Lister!C1 -> Svært lav | B16: Det er mulig at det kan skje, men det er svært lite sannsynlig. Under 1 % sannsynlighet for at det vil skje i løpet av ett år.
A17: =Lister!C2 -> Lav | B17: Selv om det er mulig at det kan skje, er det lite sannsynlig. Mellom 1–10 % sannsynlighet for at det vil skje i løpet av ett år.
A18: =Lister!C3 -> Middels | B18: Det er sannsynlig at det kan skje, men det er mer sannsynlig at det ikke skjer. Mellom 10–30 % sannsynlighet for at det vil skje i løpet av ett år.
A19: =Lister!C4 -> Høy | B19: Det er nesten like sannsynlig at det skjer som at det ikke skjer. Mellom 30–60 % sannsynlighet for at det vil skje i løpet av ett år.
A20: =Lister!C5 -> Svært høy | B20: Det er klart mer sannsynlig at det skjer, enn at det ikke skjer. Over 60 % sannsynlighet for at det vil skje i løpet av ett år.

Sheet 3. Risikomatrise
A1: Risikomatrise
A3: Risiko er en kombinasjon av sannsynlighetene og konsekvensene som er beskrevet. Risikoakseptkriteriene beskriver hvilke av disse kombinasjonene som kan aksepteres under gitte forutsetninger. Vi har tre nivåer av risiko: Høy: Risikoen angis med rødt i matrisen under. Høy risiko kan ikke aksepteres, det skal alltid settes inn tiltak som minimum bringer risikoen ned til gult nivå. Middels: Risikoen angis med gult i matrisen under. Middels risiko kan aksepteres dersom man har satt inn tiltak for å forsøke å redusere risikoen så langt som praktisk mulig. Lav: Risikoen angis med grønt i matrisen under. Lav risiko kan aksepteres uten at det settes inn tiltak. Det anbefales like vel at enkle tiltak vurderes der det er mulig å redusere risikoen ytterligere. For denne risikovurderingen er risikomatrisen under valgt.
B5: Risiko | D5: Konsekvens
D6: =Lister!D1 -> Svært lav | E6: =Lister!D2 -> Lav | F6: =Lister!D3 -> Middels | G6: =Lister!D4 -> Høy | H6: =Lister!D5 -> Svært høy
B7: Sannsynlighet | C7: =Lister!C5 -> Svært høy | D7: Middels | E7: Høy | F7: Høy | G7: Høy | H7: Høy
C8: =Lister!C4 -> Høy | D8: Middels | E8: Middels | F8: Høy | G8: Høy | H8: Høy
C9: =Lister!C3 -> Middels | D9: Lav | E9: Middels | F9: Middels | G9: Høy | H9: Høy
C10: =Lister!C2 -> Lav | D10: Lav | E10: Lav | F10: Middels | G10: Middels | H10: Høy
C11: =Lister!C1 -> Svært lav | D11: Lav | E11: Lav | F11: Lav | G11: Middels | H11: Middels

Sheet 4. Risikovurdering
A1: Risikovurdering
A3: RISIKOVURDERING
B4: ANALYSE | K4: VURDERING ETTER NYE TILTAK
A5: ID | B5: Beskriv hendelsen (hva kan skje) | C5: Beskriv årsakene til hendelsen | D5: Beskriv konsekvensene av hendelsen | E5: Beskriv eksisterende tiltak | F5: Konsekvens | G5: Sannsynlighet | H5: Begrunnelse for sannsynlighet | I5: Risiko | J5: ID | K5: Forslag til nye tiltak | L5: Konsekvens | M5: Sannsynlighet | N5: Risiko
B6: Hva kan inntreffe basert på enhetens oppgaver, aktiviteter, funksjon og lokasjon? | C6: Hva kan utløse hendelsen? | D6: Hva kan skje om hendelsen inntreffer? | E6: Forebyggende og skadebegrensende | H6: Hvor trolig er det at årsaken utløser hendelsen? | K6: Forebyggende og skadebegrensende
A7: 1 | I7: =IF(OR(F7="", G7=""), "", INDEX('3. Risikomatrise'!$D$7:$H$11, MATCH(G7, '3. Risikomatrise'!$C$7:$C$11, 0), MATCH(F7, '3. Risikomatrise'!$D$6:$H$6, 0) ) ) | J7: =A7 -> 1 | N7: =IF(OR(L7="", M7=""), "", INDEX('3. Risikomatrise'!$D$7:$H$11, MATCH(M7, '3. Risikomatrise'!$C$7:$C$11, 0), MATCH(L7, '3. Risikomatrise'!$D$6:$H$6, 0) ) )
A8: 2 | I8: =IF(OR(F8="", G8=""), "", INDEX('3. Risikomatrise'!$D$7:$H$11, MATCH(G8, '3. Risikomatrise'!$C$7:$C$11, 0), MATCH(F8, '3. Risikomatrise'!$D$6:$H$6, 0) ) ) | J8: =A8 -> 2 | N8: =IF(OR(L8="", M8=""), "", INDEX('3. Risikomatrise'!$D$7:$H$11, MATCH(M8, '3. Risikomatrise'!$C$7:$C$11, 0), MATCH(L8, '3. Risikomatrise'!$D$6:$H$6, 0) ) )
A9: 3 | I9: =IF(OR(F9="", G9=""), "", INDEX('3. Risikomatrise'!$D$7:$H$11, MATCH(G9, '3. Risikomatrise'!$C$7:$C$11, 0), MATCH(F9, '3. Risikomatrise'!$D$6:$H$6, 0) ) ) | J9: =A9 -> 3 | N9: =IF(OR(L9="", M9=""), "", INDEX('3. Risikomatrise'!$D$7:$H$11, MATCH(M9, '3. Risikomatrise'!$C$7:$C$11, 0), MATCH(L9, '3. Risikomatrise'!$D$6:$H$6, 0) ) )
A10: 4 | I10: =IF(OR(F10="", G10=""), "", INDEX('3. Risikomatrise'!$D$7:$H$11, MATCH(G10, '3. Risikomatrise'!$C$7:$C$11, 0), MATCH(F10, '3. Risikomatrise'!$D$6:$H$6, 0) ) ) | J10: =A10 -> 4 | N10: =IF(OR(L10="", M10=""), "", INDEX('3. Risikomatrise'!$D$7:$H$11, MATCH(M10, '3. Risikomatrise'!$C$7:$C$11, 0), MATCH(L10, '3. Risikomatrise'!$D$6:$H$6, 0) ) )
A11: 5 | I11: =IF(OR(F11="", G11=""), "", INDEX('3. Risikomatrise'!$D$7:$H$11, MATCH(G11, '3. Risikomatrise'!$C$7:$C$11, 0), MATCH(F11, '3. Risikomatrise'!$D$6:$H$6, 0) ) ) | J11: =A11 -> 5 | N11: =IF(OR(L11="", M11=""), "", INDEX('3. Risikomatrise'!$D$7:$H$11, MATCH(M11, '3. Risikomatrise'!$C$7:$C$11, 0), MATCH(L11, '3. Risikomatrise'!$D$6:$H$6, 0) ) )
A12: 6 | I12: =IF(OR(F12="", G12=""), "", INDEX('3. Risikomatrise'!$D$7:$H$11, MATCH(G12, '3. Risikomatrise'!$C$7:$C$11, 0), MATCH(F12, '3. Risikomatrise'!$D$6:$H$6, 0) ) ) | J12: =A12 -> 6 | N12: =IF(OR(L12="", M12=""), "", INDEX('3. Risikomatrise'!$D$7:$H$11, MATCH(M12, '3. Risikomatrise'!$C$7:$C$11, 0), MATCH(L12, '3. Risikomatrise'!$D$6:$H$6, 0) ) )
A13: 7 | I13: =IF(OR(F13="", G13=""), "", INDEX('3. Risikomatrise'!$D$7:$H$11, MATCH(G13, '3. Risikomatrise'!$C$7:$C$11, 0), MATCH(F13, '3. Risikomatrise'!$D$6:$H$6, 0) ) ) | J13: =A13 -> 7 | N13: =IF(OR(L13="", M13=""), "", INDEX('3. Risikomatrise'!$D$7:$H$11, MATCH(M13, '3. Risikomatrise'!$C$7:$C$11, 0), MATCH(L13, '3. Risikomatrise'!$D$6:$H$6, 0) ) )
A14: 8 | I14: =IF(OR(F14="", G14=""), "", INDEX('3. Risikomatrise'!$D$7:$H$11, MATCH(G14, '3. Risikomatrise'!$C$7:$C$11, 0), MATCH(F14, '3. Risikomatrise'!$D$6:$H$6, 0) ) ) | J14: =A14 -> 8 | N14: =IF(OR(L14="", M14=""), "", INDEX('3. Risikomatrise'!$D$7:$H$11, MATCH(M14, '3. Risikomatrise'!$C$7:$C$11, 0), MATCH(L14, '3. Risikomatrise'!$D$6:$H$6, 0) ) )
A15: 9 | I15: =IF(OR(F15="", G15=""), "", INDEX('3. Risikomatrise'!$D$7:$H$11, MATCH(G15, '3. Risikomatrise'!$C$7:$C$11, 0), MATCH(F15, '3. Risikomatrise'!$D$6:$H$6, 0) ) ) | J15: =A15 -> 9 | N15: =IF(OR(L15="", M15=""), "", INDEX('3. Risikomatrise'!$D$7:$H$11, MATCH(M15, '3. Risikomatrise'!$C$7:$C$11, 0), MATCH(L15, '3. Risikomatrise'!$D$6:$H$6, 0) ) )
A16: 10 | I16: =IF(OR(F16="", G16=""), "", INDEX('3. Risikomatrise'!$D$7:$H$11, MATCH(G16, '3. Risikomatrise'!$C$7:$C$11, 0), MATCH(F16, '3. Risikomatrise'!$D$6:$H$6, 0) ) ) | J16: =A16 -> 10 | N16: =IF(OR(L16="", M16=""), "", INDEX('3. Risikomatrise'!$D$7:$H$11, MATCH(M16, '3. Risikomatrise'!$C$7:$C$11, 0), MATCH(L16, '3. Risikomatrise'!$D$6:$H$6, 0) ) )
A17: 11 | I17: =IF(OR(F17="", G17=""), "", INDEX('3. Risikomatrise'!$D$7:$H$11, MATCH(G17, '3. Risikomatrise'!$C$7:$C$11, 0), MATCH(F17, '3. Risikomatrise'!$D$6:$H$6, 0) ) ) | J17: =A17 -> 11 | N17: =IF(OR(L17="", M17=""), "", INDEX('3. Risikomatrise'!$D$7:$H$11, MATCH(M17, '3. Risikomatrise'!$C$7:$C$11, 0), MATCH(L17, '3. Risikomatrise'!$D$6:$H$6, 0) ) )
A18: 12 | I18: =IF(OR(F18="", G18=""), "", INDEX('3. Risikomatrise'!$D$7:$H$11, MATCH(G18, '3. Risikomatrise'!$C$7:$C$11, 0), MATCH(F18, '3. Risikomatrise'!$D$6:$H$6, 0) ) ) | J18: =A18 -> 12 | N18: =IF(OR(L18="", M18=""), "", INDEX('3. Risikomatrise'!$D$7:$H$11, MATCH(M18, '3. Risikomatrise'!$C$7:$C$11, 0), MATCH(L18, '3. Risikomatrise'!$D$6:$H$6, 0) ) )
... A29: 23 | I29: =IF(OR(F29="", G29=""), "", INDEX('3. Risikomatrise'!$D$7:$H$11, MATCH(G29, '3. Risikomatrise'!$C$7:$C$11, 0), MATCH(F29, '3. Risikomatrise'!$D$6:$H$6, 0) ) ) | J29: =A29 -> 23 | N29: =IF(OR(L29="", M29=""), "", INDEX('3. Risikomatrise'!$D$7:$H$11, MATCH(M29, '3. Risikomatrise'!$C$7:$C$11, 0), MATCH(L29, '3. Risikomatrise'!$D$6:$H$6, 0) ) )
A31: Hvordan påvirker de forskjellige faktorene som er vurdert hverandre? Beskriv den samlede risikoen.

Sheet 5. Tiltak
A1: Tiltak
A3: Nr | B3: Anbefalte tiltak | C3: Status | D3: Ansvarlig | E3: Frist
A4: 1
A5: 2
A6: 3
A7: 4
A8: 5
A9: 6
A10: 7
A11: 8
A12: 9
A13: 10
A15: Leders vurdering av de foreslåtte tiltakene
C21: =IF('1. Innledning'!B6="", "", '1. Innledning'!B6)

Sheet Lister
A1: Ja | B1: Lav | C1: Svært lav | D1: Svært lav | E1: Anbefalt
A2: Nei | B2: Middels | C2: Lav | D2: Lav | E2: Skal gjennomføres
A3: Usikker | B3: Høy | C3: Middels | D3: Middels | E3: Skal ikke gjennomføres
C4: Høy | D4: Høy | E4: Gjennomført
C5: Svært høy | D5: Svært høy
