Workbook

Sheet 1. Introduction
A1: Risk assesment
A3: Unit:
A4: Date:
A5: Version:
A6: Responsible manager:
A7: Facilitator:
A8: Participants:
A9: Purpose:
A10: Scope:
A11: Description of the object of the risk assessment:
A12: Method: | B12: The method for the risk assessment is based on the risk assessment standard NS 5814. This risk assessment focuses exclusively on risks that affect human life and health.
A13: Conduct of the assessment:
A14: Participation:
A15: Comment:

Sheet 2. Categories
A1: Categories for likelihood and consequence
A3: When assessing risk, we have used the following categories to describe likelihood and consequence.
A5: Consequences
A6: Consequence | B6: Description of consequences
A7: =Lister!D1 -> Low | B7: Few or minor physical or psychological injuries. Undesired stress.
A8: =Lister!D2 -> Medium | B8: Serious physical or psychological injuries. Undesired stress that results in absence and/or may require measures to improve working conditions. Some employees consider leaving their job due to the working environment (turnover).
A9: =Lister!D3 -> High | B9: Critical physical or psychological injuries that may lead to permanent impairment. Fear, anxiety, feeling unsafe. Long-term absence/disability. Several employees leave their job due to the working environment (turnover).
A12: Likelihoods
A13: Likelihood | B13: How likely it is to occur within one year
A14: =Lister!C1 -> Low | B14: Although it is possible that it may occur, it is unlikely. Less than 10% probability that it will occur within one year.
A15: =Lister!C2 -> Medium | B15: It is likely that it may occur, but it is more likely that it will not occur. Between 10–50% probability that it will occur within one year.
A16: =Lister!C3 -> High | B16: It is more likely that it will occur than that it will not occur. More than 50% probability that it will occur within one year.

Sheet 3. Risk matrix
A1: Risk matrix
A3: Risk is a combination of the likelihoods and consequences described above. The risk acceptance criteria set out which of these combinations can be accepted under given conditions. We use three levels of risk: High: The risk is indicated in red in the matrix below. High risk cannot be accepted; measures must always be implemented to reduce the risk at least to the yellow level. Medium: The risk is indicated in yellow in the matrix below. Medium risk can be accepted if measures have been implemented to try to reduce the risk as far as is reasonably practicable. Low: The risk is indicated in green in the matrix below. Low risk can be accepted without implementing measures. However, it is still recommended that simple measures are considered where it is possible to reduce the risk further. For this risk assessment, the risk matrix below has been chosen.
B5: Risk | D5: Consequence
D6: =Lister!D1 -> Low | E6: =Lister!D2 -> Medium | F6: =Lister!D3 -> High
B7: Likelihood | C7: =Lister!C3 -> High | D7: Medium | E7: High | F7: High
C8: =Lister!C2 -> Medium | D8: Low | E8: Medium | F8: High
C9: =Lister!C1 -> Low | D9: Low | E9: Low | F9: Medium

Sheet 4. Risik assesment
A1: Risk assesment
A3: RISK ASSESMENT
B4: ANALYSIS | K4: ASSESMENT AFTER NEW MEASURES
A5: ID | B5: Describe the event (what may happen) | C5: Describe the causes of the event | D5: Describe the consequences of the event | E5: Describe existing measures | F5: Consequence | G5: Likelihood | H5: Justification for likelihood | I5: Risk | J5: ID | K5: Proposed new measures | L5: Consequence | M5: Likelihood | N5: Risk
B6: What may occur based on the unit’s tasks, activities, function and location? | C6: Are there any vulnerabilities in the unit’s working environment that may cause the event? | D6: What would be the consequence for individuals’ physical and psychological health and for the working environment if this occurs? | E6: Preventive and mitigating What do we currently do to prevent this from happening, and to limit the consequences if it does occur? | H6: Why do you consider the likelihood to be at this level? How likely is it that the cause will trigger the event and lead to the stated consequence? | K6: Preventive and mitigating
A7: 1 | I7: =IF(OR(F7="", G7=""), "", INDEX('3. Risk matrix'!$D$7:$F$9, MATCH(G7, '3. Risk matrix'!$C$7:$C$9, 0), MATCH(F7, '3. Risk matrix'!$D$6:$F$6, 0) ) ) | J7: =A7 -> 1 | N7: =IF(OR(L7="", M7=""), "", INDEX('3. Risk matrix'!$D$7:$F$9, MATCH(M7, '3. Risk matrix'!$C$7:$C$9, 0), MATCH(L7, '3. Risk matrix'!$D$6:$F$6, 0) ) )
A8: 2 | I8: =IF(OR(F8="", G8=""), "", INDEX('3. Risk matrix'!$D$7:$F$9, MATCH(G8, '3. Risk matrix'!$C$7:$C$9, 0), MATCH(F8, '3. Risk matrix'!$D$6:$F$6, 0) ) ) | J8: =A8 -> 2 | N8: =IF(OR(L8="", M8=""), "", INDEX('3. Risk matrix'!$D$7:$F$9, MATCH(M8, '3. Risk matrix'!$C$7:$C$9, 0), MATCH(L8, '3. Risk matrix'!$D$6:$F$6, 0) ) )
A9: 3 | I9: =IF(OR(F9="", G9=""), "", INDEX('3. Risk matrix'!$D$7:$F$9, MATCH(G9, '3. Risk matrix'!$C$7:$C$9, 0), MATCH(F9, '3. Risk matrix'!$D$6:$F$6, 0) ) ) | J9: =A9 -> 3 | N9: =IF(OR(L9="", M9=""), "", INDEX('3. Risk matrix'!$D$7:$F$9, MATCH(M9, '3. Risk matrix'!$C$7:$C$9, 0), MATCH(L9, '3. Risk matrix'!$D$6:$F$6, 0) ) )
A10: 4 | I10: =IF(OR(F10="", G10=""), "", INDEX('3. Risk matrix'!$D$7:$F$9, MATCH(G10, '3. Risk matrix'!$C$7:$C$9, 0), MATCH(F10, '3. Risk matrix'!$D$6:$F$6, 0) ) ) | J10: =A10 -> 4 | N10: =IF(OR(L10="", M10=""), "", INDEX('3. Risk matrix'!$D$7:$F$9, MATCH(M10, '3. Risk matrix'!$C$7:$C$9, 0), MATCH(L10, '3. Risk matrix'!$D$6:$F$6, 0) ) )
A11: 5 | I11: =IF(OR(F11="", G11=""), "", INDEX('3. Risk matrix'!$D$7:$F$9, MATCH(G11, '3. Risk matrix'!$C$7:$C$9, 0), MATCH(F11, '3. Risk matrix'!$D$6:$F$6, 0) ) ) | J11: =A11 -> 5 | N11: =IF(OR(L11="", M11=""), "", INDEX('3. Risk matrix'!$D$7:$F$9, MATCH(M11, '3. Risk matrix'!$C$7:$C$9, 0), MATCH(L11, '3. Risk matrix'!$D$6:$F$6, 0) ) )
A12: 6 | I12: =IF(OR(F12="", G12=""), "", INDEX('3. Risk matrix'!$D$7:$F$9, MATCH(G12, '3. Risk matrix'!$C$7:$C$9, 0), MATCH(F12, '3. Risk matrix'!$D$6:$F$6, 0) ) ) | J12: =A12 -> 6 | N12: =IF(OR(L12="", M12=""), "", INDEX('3. Risk matrix'!$D$7:$F$9, MATCH(M12, '3. Risk matrix'!$C$7:$C$9, 0), MATCH(L12, '3. Risk matrix'!$D$6:$F$6, 0) ) )
A13: 7 | I13: =IF(OR(F13="", G13=""), "", INDEX('3. Risk matrix'!$D$7:$F$9, MATCH(G13, '3. Risk matrix'!$C$7:$C$9, 0), MATCH(F13, '3. Risk matrix'!$D$6:$F$6, 0) ) ) | J13: =A13 -> 7 | N13: =IF(OR(L13="", M13=""), "", INDEX('3. Risk matrix'!$D$7:$F$9, MATCH(M13, '3. Risk matrix'!$C$7:$C$9, 0), MATCH(L13, '3. Risk matrix'!$D$6:$F$6, 0) ) )
A14: 8 | I14: =IF(OR(F14="", G14=""), "", INDEX('3. Risk matrix'!$D$7:$F$9, MATCH(G14, '3. Risk matrix'!$C$7:$C$9, 0), MATCH(F14, '3. Risk matrix'!$D$6:$F$6, 0) ) ) | J14: =A14 -> 8 | N14: =IF(OR(L14="", M14=""), "", INDEX('3. Risk matrix'!$D$7:$F$9, MATCH(M14, '3. Risk matrix'!$C$7:$C$9, 0), MATCH(L14, '3. Risk matrix'!$D$6:$F$6, 0) ) )
A15: 9 | I15: =IF(OR(F15="", G15=""), "", INDEX('3. Risk matrix'!$D$7:$F$9, MATCH(G15, '3. Risk matrix'!$C$7:$C$9, 0), MATCH(F15, '3. Risk matrix'!$D$6:$F$6, 0) ) ) | J15: =A15 -> 9 | N15: =IF(OR(L15="", M15=""), "", INDEX('3. Risk matrix'!$D$7:$F$9, MATCH(M15, '3. Risk matrix'!$C$7:$C$9, 0), MATCH(L15, '3. Risk matrix'!$D$6:$F$6, 0) ) )
A16: 10 | I16: =IF(OR(F16="", G16=""), "", INDEX('3. Risk matrix'!$D$7:$F$9, MATCH(G16, '3. Risk matrix'!$C$7:$C$9, 0), MATCH(F16, '3. Risk matrix'!$D$6:$F$6, 0) ) ) | J16: =A16 -> 10 | N16: =IF(OR(L16="", M16=""), "", INDEX('3. Risk matrix'!$D$7:$F$9, MATCH(M16, '3. Risk matrix'!$C$7:$C$9, 0), MATCH(L16, '3. Risk matrix'!$D$6:$F$6, 0) ) )
A17: 11 | I17: =IF(OR(F17="", G17=""), "", INDEX('3. Risk matrix'!$D$7:$F$9, MATCH(G17, '3. Risk matrix'!$C$7:$C$9, 0), MATCH(F17, '3. Risk matrix'!$D$6:$F$6, 0) ) ) | J17: =A17 -> 11 | N17: =IF(OR(L17="", M17=""), "", INDEX('3. Risk matrix'!$D$7:$F$9, MATCH(M17, '3. Risk matrix'!$C$7:$C$9, 0), MATCH(L17, '3. Risk matrix'!$D$6:$F$6, 0) ) )
A18: 12 | I18: =IF(OR(F18="", G18=""), "", INDEX('3. Risk matrix'!$D$7:$F$9, MATCH(G18, '3. Risk matrix'!$C$7:$C$9, 0), MATCH(F18, '3. Risk matrix'!$D$6:$F$6, 0) ) ) | J18: =A18 -> 12 | N18: =IF(OR(L18="", M18=""), "", INDEX('3. Risk matrix'!$D$7:$F$9, MATCH(M18, '3. Risk matrix'!$C$7:$C$9, 0), MATCH(L18, '3. Risk matrix'!$D$6:$F$6, 0) ) )
... A29: 23 | I29: =IF(OR(F29="", G29=""), "", INDEX('3. Risk matrix'!$D$7:$F$9, MATCH(G29, '3. Risk matrix'!$C$7:$C$9, 0), MATCH(F29, '3. Risk matrix'!$D$6:$F$6, 0) ) ) | J29: =A29 -> 23 | N29: =IF(OR(L29="", M29=""), "", INDEX('3. Risk matrix'!$D$7:$F$9, MATCH(M29, '3. Risk matrix'!$C$7:$C$9, 0), MATCH(L29, '3. Risk matrix'!$D$6:$F$6, 0) ) )
A31: How do the different factors that have been assessed affect each other? Describe the overall risk.

Sheet 5. Tiltak
A1: Measures
A3: Nr | B3: Recommended measures | C3: Status | D3: Responsible | E3: Due date
A4: 1
A5: 2
A6: 3
A7: 4
A8: 5
A9: 6
A10: 7
A11: 8
A12: 9
A13: 10
A15: Leader’s assessment of the proposed measures
C21: =IF('1. Introduction'!B6="", "", '1. Introduction'!B6)

Sheet Lister
A1: Yes | B1: Low | C1: Low | D1: Low | E1: To be implemented
A2: No | B2: Medium | C2: Medium | D2: Medium | E2: Not to be implemented
A3: Uncertain | B3: High | C3: High | D3: High | E3: Implemented
