Workbook

Sheet Sheet1
A1: CUSTOMS PROFORMA INVOICE
A3: Date: | B3: =TODAY() -> 45037
A4: AWB NO.:
A6: Shipper information | G6: Consignee information
A7: Company: | B7: =IF(Sheet2!D2="","",Sheet2!D2) | G7: Company: | H7: =IF(Sheet2!E2="","",Sheet2!E2) -> University of Oslo
A8: Name: | B8: =IF(Sheet2!D3="","",Sheet2!D3) | G8: Name: | H8: =IF(Sheet2!E3="","",Sheet2!E3)
A9: Address: | B9: =IF(Sheet2!D4="","",Sheet2!D4) | G9: Address: | H9: =IF(Sheet2!E4="","",Sheet2!E4) -> Dept. of Biosciences
A10: Address: | B10: =IF(Sheet2!D5="","",Sheet2!D5) | G10: Address: | H10: =IF(Sheet2!E5="","",Sheet2!E5) -> Blindernveien 31
A11: Address: | B11: =IF(Sheet2!D6="","",Sheet2!D6) | G11: Address: | H11: =IF(Sheet2!E6="","",Sheet2!E6) -> Innkjøpskontoret Rm. U-157
A12: Postcode: | B12: =IF(Sheet2!D7="","",Sheet2!D7) | G12: Postcode: | H12: =IF(Sheet2!E7="","",Sheet2!E7) -> 0371
A13: City / Town: | B13: =IF(Sheet2!D8="","",Sheet2!D8) | G13: City / Town: | H13: =IF(Sheet2!E8="","",Sheet2!E8) -> Oslo
A14: Country: | B14: =IF(Sheet2!D9="","",Sheet2!D9) | G14: Country: | H14: =IF(Sheet2!E9="","",Sheet2!E9) -> NORWAY
A15: E‐mail: | B15: =IF(Sheet2!D10="","",Sheet2!D10) | G15: E‐mail: | H15: =IF(Sheet2!E10="","",Sheet2!E10)
A16: Tel: | B16: =IF(Sheet2!D11="","",Sheet2!D11) | G16: Tel: | H16: =IF(Sheet2!E11="","",Sheet2!E11)
A17: VAT number: | B17: =IF(Sheet2!D12="","",Sheet2!D12) | G17: VAT number: | H17: =IF(Sheet2!E12="","",Sheet2!E12) -> VAT 971035854 NO
A20: DESCRIPTION OF GOODS | D20: QTY | E20: WEIGHT (KG) | G20: VALUE | H20: SUB TOTAL | I20: COUNTRY OF ORIGIN | K20: Currency
H21: =D21*G21 -> 0 | I21: NORWAY | K21: NOK
H22: =D22*G22 -> 0 | K22: =K$21 -> NOK
H23: =D23*G23 -> 0 | K23: =K$21 -> NOK
H24: =D24*G24 -> 0 | K24: =K$21 -> NOK
H25: =D25*G25 -> 0 | K25: =K$21 -> NOK
H26: =D26*G26 -> 0 | K26: =K$21 -> NOK
A27: TOTAL | D27: =SUM(D21:D26) -> 0 | E27: =SUM(E21:E26) -> 0 | H27: =SUM(H21:H26) -> 0 | K27: =K$21 -> NOK
A29: Delivery terms: | C29: Incoterms 2010
A32: I hereby certify that information on this invoice is true and correct and that the contents of this shipment are as stated above.
A39: The shipper hereby certifies that the list is true and correct. Shipper authorizes AIRSPED AS and their agent, in his name and behalf, to prepare any export documentations, to sign and accept any documents relating to said shipment and forward this shipment in accordance with the conditions of carriage. The values listed on this document represent fair market value.

Sheet Sheet2
D1: Shipper information | E1: Consignee information
A2: Valuta | C2: Company: | E2: University of Oslo
A3: AUD | C3: Name:
A4: CAD | C4: Address: | E4: Dept. of Biosciences
A5: CHF | C5: Address: | E5: Blindernveien 31
A6: DEK | C6: Address: | E6: Innkjøpskontoret Rm. U-157
A7: EUR | C7: Postcode: | E7: 0371
A8: GBP | C8: City / Town: | E8: Oslo
A9: NOK | C9: Country: | E9: NORWAY
A10: SEK | C10: E‐mail:
A11: USD | C11: Tel:
C12: VAT number: | E12: VAT 971035854 NO
