Workbook

Sheet Instruksjoner
A11: Instruksjoner
A12: "NB! Regnearket er låst for redigering bortsett fra cellene som skal fylles ut. Det er viktig at dere ikke endrer oppsettet av malen. Ikke flytt eller klipp ut celler, rader eller kolonner. Hvis dere trenger å kopiere informasjon fra en celle til annen, bruk ""kopier"" (ctrl+c) /ikke ""klipp ut"" - ctrl+x/ og ""lim inn"" (ctrl+v)." Last ned din lokale kopi av skjemaet for utfylling.
A47: Spesielt for kreditnota (lengst til høyre i malen):
A49: På en kreditnota skal Beløp registreres med minus som fortegn: | G49: Feltet "Utlignes mot faktura" fylles kun inn dersom salgsordren er en kreditnota som skal utlignes automatisk mot et bestemt
G50: fakturanummer. Feltet fylles kun ut én gang per faktura (samme logikk som på Deres referanse og bestillingsnr):

Sheet Mal
A1: Salgsordre
A2: Klikk her for instruksjoner | E2: Dato: | F2: =NOW() -> 45684.564 | G2: Topptekst (max 90 tegn):
A3: Nummertype: | C3: FA | E3: Firma: | F3: UL | G3: Bunntekst (max 65 tegn):
H4: Periodiseringsnøkkel:
A5: Vår referanse: | C5: legg inn Unit4 brukernavn
A6: Selger: | C6: legg inn Unit4 brukernavn
T7: For kreditnotaer: Utlignes mot fakturanr:
A8: Nr: | B8: Kundenr: | C8: Artikkel: | D8: Antall: | E8: Pris : | F8: Beløp | G8: Deres ref. | H8: Bestillingsnr. | I8: Tilleggstekst/beskrivelse (maks 50 tegn) | J8: Artikkelbeskrivelse (maks 100 tegn) | K8: Konto | L8: Koststed | M8: Prosjekt | N8: Dim3 | O8: Finansiering | P8: AV kode | Q8: Delprosjekt | R8: Ansattnr | S8: Byggnr/arb.pakke
A9: 1 | F9: =IF(E9="","",D9*E9)
A10: =IF(B10="",IF(C10="",IF(I10="","",A9),A9),A9+1) | F10: =IF(E10="","",D10*E10)
A11: =IF(B11="",IF(C11="",IF(I11="","",A10),A10),A10+1) | F11: =IF(E11="","",D11*E11)
A12: =IF(B12="",IF(C12="",IF(I12="","",A11),A11),A11+1) | F12: =IF(E12="","",D12*E12)
A13: =IF(B13="",IF(C13="",IF(I13="","",A12),A12),A12+1) | F13: =IF(E13="","",D13*E13)
A14: =IF(B14="",IF(C14="",IF(I14="","",A13),A13),A13+1) | F14: =IF(E14="","",D14*E14)
A15: =IF(B15="",IF(C15="",IF(I15="","",A14),A14),A14+1) | F15: =IF(E15="","",D15*E15)
A16: =IF(B16="",IF(C16="",IF(I16="","",A15),A15),A15+1) | F16: =IF(E16="","",D16*E16)
A17: =IF(B17="",IF(C17="",IF(I17="","",A16),A16),A16+1) | F17: =IF(E17="","",D17*E17)
A18: =IF(B18="",IF(C18="",IF(I18="","",A17),A17),A17+1) | F18: =IF(E18="","",D18*E18)
A19: =IF(B19="",IF(C19="",IF(I19="","",A18),A18),A18+1) | F19: =IF(E19="","",D19*E19)
A20: =IF(B20="",IF(C20="",IF(I20="","",A19),A19),A19+1) | F20: =IF(E20="","",D20*E20)
A21: =IF(B21="",IF(C21="",IF(I21="","",A20),A20),A20+1) | F21: =IF(E21="","",D21*E21)
... A431: =IF(B431="",IF(C431="",IF(I431="","",A430),A430),A430+1) | F431: =IF(E431="","",D431*E431)

Sheet Sales Orders
A1: type | B1: lg04_55 | C1: Agresso Format 55
A2: filename | B2: =C3&C25 -> I:\AgrUH01\Import\ordre 27.01.2025 13.31
B3: Mappesti: | C3: I:\AgrUH01\Import\
B4: Filnavn: | C4: ="ordre"&" "&TEXT(Mal!F2,"dd.mm.åååå tt.mm")&Mal!C2 -> ordre 27.01.2025 13.31
A6: default | B6: account
A7: default | B7: accountable
A8: default | B8: address
A9: default | B9: allocation_key | C9: =Mal!I4 -> 0
A10: default | B10: amount
A11: default | B11: amount_set
A12: default | B12: apar_id
A13: default | B13: apar_id_ref
A14: default | B14: apar_name
A15: default | B15: art_descr
A16: default | B16: article
A17: default | B17: att_1_id
A18: default | B18: att_1_id
A19: default | B19: att_3_id
A20: default | B20: att_4_id
A21: default | B21: att_5_id
... A24: default | B24: bank_account
A25: default | B25: batch_id | C25: =C4 -> ordre 27.01.2025 13.31
A26: default | B26: client | C26: =Mal!F3 -> UL | E26: Teller | F26: =C25 -> ordre 27.01.2025 13.31
A27: default | B27: client_ref
A28: default | B28: confirm_date
A29: default | B29: control
A30: default | B30: cur_amount
A31: default | B31: currency
A32: default | B32: det_met_descr
A33: default | B33: del_term_descr
A34: default | B34: deliv_addr
A35: default | B35: deliv_attention
A36: default | B36: deliv_countr
A37: default | B37: deliv_date
A38: default | B38: deliv_method
... A61: default | B61: location
A62: default | B62: long_info1 | C62: =IF(Mal!I2="","",Mal!I2)
A63: default | B63: long_info2 | C63: =IF(Mal!I3="","",Mal!I3)
A64: default | B64: lot
A65: default | B65: main_apar_id
...

Sheet _LG04_55
A1: Field Name | B1: Width | C1: Mandatory | D1: Right Justify | E1: Format | F1: Multiplier
A2: account | B2: 25
A3: accountable | B3: 25
A4: address | B4: 160
A5: allocation_key | B5: 2
A6: amount | B6: 20 | D6: Y | E6: 0 | F6: 100
A7: amount_set | B7: 1
A8: apar_id | B8: 25
A9: apar_id_ref | B9: 25
A10: apar_name | B10: 255
A11: art_descr | B11: 255
A12: article | B12: 25
A13: att_1_id | B13: 4
A14: att_2_id | B14: 4
A15: att_3_id | B15: 4
A16: att_4_id | B16: 4
A17: att_5_id | B17: 4
A18: att_6_id | B18: 4
... A20: bank_account | B20: 35
A21: batch_id | B21: 25 | C21: Y
A22: client | B22: 25 | C22: Y
A23: client_ref | B23: 25
A24: confirm_date | B24: 8 | E24: yyyymmdd hh:mm:ss
A25: control | B25: 1
A26: cur_amount | B26: 20 | E26: 0 | F26: 100
A27: currency | B27: 25
A28: det_met_descr | B28: 255
A29: del_term_descr | B29: 255
A30: deliv_addr | B30: 255
A31: deliv_attention | B31: 50
A32: deliv_countr | B32: 25
A33: deliv_date | B33: 8 | E33: yyyymmdd hh:mm:ss
A34: deliv_method | B34: 25
A35: deliv_terms | B35: 25
A36: dim_1 | B36: 25
A37: dim_2 | B37: 25
A38: dim_3 | B38: 25
A39: dim_4 | B39: 25
A40: dim_5 | B40: 25
A41: dim_6 | B41: 25
...

Sheet _message
A2: Agresso Batch Input Formatter 5.4.1
A4: Starting WriteFile
A5: Number of rows in worksheet = 106
A6: Reading Column (A)
A7: loading details for file type lg04_541
A8: File Definition Sheet has 97 rows and 6 columns
A9: checking column cur_amount
A10: checking column amount
A11: checking column apar_id
A12: checking column art_descr
A13: checking column article
A14: checking column deliv_addr
... A26: 5 Lines written to file c:\Program Files\Agresso 5.4\Data Import\LG04541SalesOrders.txt (6.084375E-02s)
