Workbook

Sheet Timer Web
A1: Timekontroll og prognose
A3: Aktiviteter Fase 0 | B3: Timer budsjett | C3: Timer utført | D3: Estimert gjenstående | E3: Prognose | F3: OR/UR | G3: Timer utført uke 4 | H3: Timer utført uke 5 | I3: Timer utført uke 6 | J3: Timer utført uke 7 | K3: Timer utført uke 8 | L3: Timer utført uke 9 | M3: Timer utført uke 10 | N3: Timer utført uke 11 | O3: Timer utført uke 12 | P3: Timer utført uke 13 | Q3: Timer utført uke 14 | R3: Timer utført uke 15 | S3: Timer utført uke 16 | T3: Timer utført uke 17 | U3: Timer utført uke 18 | V3: Timer utført uke 19 | W3: Timer utført uke 20 | X3: Timer utført uke 21 | Y3: Timer utført uke 22 | Z3: Timer utført uke 23 | AA3: Timer utført uke 24 | AB3: Timer utført uke 25 | AC3: Timer utført uke 26 | AD3: Timer utført uke 27 | AE3: Timer utført uke 28 | AF3: Timer utført uke 29 | AG3: Timer utført uke 30 | AH3: Timer utført uke 31 | AI3: Timer utført uke 32 | AJ3: Timer utført uke 33 | AK3: Timer utført uke 34 | AL3: Timer utført uke 35 | AM3: Timer utført uke 36 | AN3: Timer utført uke 37 | AO3: Timer utført uke 38 | AP3: Timer utført uke 39 | AQ3: Timer utført uke 40 | AR3: Timer utført uke 41 | AS3: Timer utført uke 42 | AT3: Timer utført uke 43 | AU3: Timer utført uke 44 | AV3: Timer utført uke 45 | AW3: Timer utført uke 46 | AX3: Timer utført uke 47 | AY3: Timer utført uke 48 | AZ3: Timer utført uke 49 | BA3: Timer utført uke 50 | CP3: Status
A4: Prosjektetablering | B4: 120 | C4: =SUM(G4:BA4) -> 45.25 | D4: 0 | E4: =C4+D4 -> 45.25 | F4: =(E4-B4) -> -74.75 | I4: 2 | J4: =(2+2+37.75) -> 41.75 | K4: 0.5 | M4: 1 | CP4: Denne prosessen var mye mindre enn først antatt, brukte derfor mye færre timer.
A5: Prosjektledelse | B5: 30 | C5: =SUM(G5:BA5) -> 60 | D5: 0 | E5: =C5+D5 -> 60 | F5: =(E5-B5) -> 30 | G5: 9.5 | H5: 3.25 | I5: 17.75 | J5: 22.5 | K5: 4 | M5: 1.25 | N5: 0.75 | P5: 1
A6: Totalt | B6: =SUM(B4:B5) -> 150 | C6: =SUM(C4:C5) -> 105.25 | D6: =SUM(D4:D5) -> 0 | E6: =SUM(E4:E5) -> 105.25 | F6: =SUM(F4:F5) -> -44.75 | G6: =SUM(G4:G5) -> 9.5 | H6: =SUM(H4:H5) -> 3.25 | I6: =SUM(I4:I5) -> 19.75 | ... BA6: =SUM(BA4:BA5) -> 0
A8: Aktiviteter Fase 1 Prosess 1.1 (GDPR) | B8: Timer budsjett | C8: Timer utført | D8: Estimert gjenstående | E8: Prognose | F8: OR/UR | G8: Timer utført uke 4 | H8: Timer utført uke 5 | I8: Timer utført uke 6 | J8: Timer utført uke 7 | K8: Timer utført uke 8 | L8: Timer utført uke 9 | M8: Timer utført uke 10 | N8: Timer utført uke 11 | O8: Timer utført uke 12 | P8: Timer utført uke 13 | Q8: Timer utført uke 14 | R8: Timer utført uke 15 | S8: Timer utført uke 16 | T8: Timer utført uke 17 | U8: Timer utført uke 18 | V8: Timer utført uke 19 | W8: Timer utført uke 20 | X8: Timer utført uke 21 | Y8: Timer utført uke 22 | Z8: Timer utført uke 23 | AA8: Timer utført uke 24 | AB8: Timer utført uke 25 | AC8: Timer utført uke 26 | AD8: Timer utført uke 27 | AE8: Timer utført uke 28 | AF8: Timer utført uke 29 | AG8: Timer utført uke 30 | AH8: Timer utført uke 31 | AI8: Timer utført uke 32 | AJ8: Timer utført uke 33 | AK8: Timer utført uke 34 | AL8: Timer utført uke 35 | AM8: Timer utført uke 36 | AN8: Timer utført uke 37 | AO8: Timer utført uke 38 | AP8: Timer utført uke 39 | AQ8: Timer utført uke 40 | AR8: Timer utført uke 41 | AS8: Timer utført uke 42 | AT8: Timer utført uke 43 | AU8: Timer utført uke 44 | AV8: Timer utført uke 45 | AW8: Timer utført uke 46 | AX8: Timer utført uke 47 | AY8: Timer utført uke 48 | AZ8: Timer utført uke 49 | BA8: Timer utført uke 50 | CP8: Kommentar
A9: Konseptarbeid/UX | B9: 40 | C9: =SUM(G9:BA9) -> 87.25 | D9: 0 | E9: =(C9+D9) -> 87.25 | F9: =E9-B9 -> 47.25 | H9: 1 | K9: 19 | L9: =12.5+1+0.5 -> 14 | M9: =10.5+1+1.5 -> 13 | N9: =19.5+0.75+1.25 -> 21.5 | O9: 17.75 | P9: 1 | CP9: måtte gjennom veldig mange utkast. Gjorde også brukertester, som egentlig ikke var lagt inn.
A10: Utvikling | B10: 80 | C10: =SUM(G10:BA10) -> 24 | D10: 0 | E10: =(C10+D10) -> 24 | F10: =E10-B10 -> -56 | N10: 14.25 | O10: 9.25 | Q10: 0.5
A11: Prosjektledelse | B11: =(5*16) -> 80 | C11: =SUM(G11:BA11) -> 65.5 | D11: 0 | E11: =(C11+D11) -> 65.5 | F11: =E11-B11 -> -14.5 | G11: 10.5 | J11: 5 | L11: =6.75 -> 6.75 | M11: 23.25 | N11: =4+12.5 -> 16.5 | O11: 2 | P11: 1 | Q11: =SUM(Q9:Q10) -> 0.5
A12: Totalt | B12: =SUM(B9:B11) -> 200 | C12: =SUM(C9:C11) -> 176.75 | D12: =SUM(D9:D11) -> 0 | E12: =SUM(E9:E11) -> 176.75 | F12: =SUM(F9:F11) -> -23.25 | G12: =SUM(G9:G11) -> 10.5 | H12: =SUM(H9:H11) -> 1 | I12: =SUM(I9:I11) -> 0 | ... AB12: =SUM(AB9:AB11) -> 0
A14: Aktiviteter Fase 1 Prosess 1.2 (Forskpro) | B14: Timer budsjett | C14: Timer utført | D14: Estimert gjenstående | E14: Prognose | F14: OR/UR | G14: Timer utført uke 4 | H14: Timer utført uke 5 | I14: Timer utført uke 6 | J14: Timer utført uke 7 | K14: Timer utført uke 8 | L14: Timer utført uke 9 | M14: Timer utført uke 10 | N14: Timer utført uke 11 | O14: Timer utført uke 12 | P14: Timer utført uke 13 | Q14: Timer utført uke 14 | R14: Timer utført uke 15 | S14: Timer utført uke 16 | T14: Timer utført uke 17 | U14: Timer utført uke 18 | V14: Timer utført uke 19 | W14: Timer utført uke 20 | X14: Timer utført uke 21 | Y14: Timer utført uke 22 | Z14: Timer utført uke 23 | AA14: Timer utført uke 24 | AB14: Timer utført uke 25 | AC14: Timer utført uke 26 | AD14: Timer utført uke 27 | AE14: Timer utført uke 28 | AF14: Timer utført uke 29 | AG14: Timer utført uke 30 | AH14: Timer utført uke 31 | AI14: Timer utført uke 32 | AJ14: Timer utført uke 33 | AK14: Timer utført uke 34 | AL14: Timer utført uke 35 | AM14: Timer utført uke 36 | AN14: Timer utført uke 37 | AO14: Timer utført uke 38 | AP14: Timer utført uke 39 | AQ14: Timer utført uke 40 | AR14: Timer utført uke 41 | AS14: Timer utført uke 42 | AT14: Timer utført uke 43 | AU14: Timer utført uke 44 | AV14: Timer utført uke 45 | AW14: Timer utført uke 46 | AX14: Timer utført uke 47 | AY14: Timer utført uke 48 | AZ14: Timer utført uke 49 | BA14: Timer utført uke 50 | BB14: Timer utført uke 51 | BC14: Timer utført uke 52 | BD14: Timer utført uke 1 | CP14: Status
A15: Behovskartlegging | B15: =(4*40) -> 160 | C15: =SUM(G15:BA15) -> 22.75 | D15: 0 | E15: =(C15+D15) -> 22.75 | F15: =E15-B15 -> -137.25 | O15: 1.25 | Q15: 7 | R15: 14.5
A16: Konsept / UX | B16: =(2*40) -> 80 | C16: =SUM(G16:BA16) -> 177.25 | D16: 0 | E16: =(C16+D16) -> 177.25 | F16: =E16-B16 -> 97.25 | T16: 30.25 | U16: 24.75 | V16: 15.25 | W16: 1 | X16: 10 | Y16: 10 | Z16: 3.5 | AA16: 11.5 | AB16: 21 | AC16: 12.5 | AF16: 4 | AG16: 4 | AH16: 3 | AI16: 23.5 | AJ16: 3
A17: Implementasjon (og revidering) | B17: =4*40 -> 160 | C17: =SUM(G17:BE17) -> 177.25 | D17: 0 | E17: =(C17+D17) -> 177.25 | F17: =E17-B17 -> 17.25 | AA17: 17.5 | AB17: 12.5 | AC17: 25.5 | AD17: 1.5 | AI17: 17 | AJ17: 8.75 | AK17: 3 | AL17: 0.5 | AM17: 1.5 | AP17: 8.75 | AQ17: 17.75 | AR17: 1 | AS17: 5 | AZ17: 14 | BA17: 17.5 | BB17: 5 | BC17: 3 | BD17: 12.5 | BE17: 5
A18: Pilotering og brukertester | B18: =(3*40) -> 120 | C18: =SUM(G18:BA18) -> 149.25 | D18: 0 | E18: =(C18+D18) -> 149.25 | F18: =E18-B18 -> 29.25 | AI18: 1 | AJ18: 6.5 | AK18: 24 | AL18: 35 | AM18: 3.25 | AO18: 4 | AP18: =14.75+9.75 -> 24.5 | AQ18: =7+5.75 -> 12.75 | AR18: 3 | AS18: 6.5 | AT18: =3.5+1 -> 4.5 | AU18: =1+1.5 -> 2.5 | AV18: =0.5+2.75 -> 3.25 | AW18: =6+2 -> 8 | AX18: 3.5 | AY18: 1.5 | AZ18: =4.5+1 -> 5.5
A19: Innføring | B19: =(2*40) -> 80 | C19: =SUM(G19:BE19) -> 37.25 | D19: 0 | E19: =(C19+D19) -> 37.25 | F19: =E19-B19 -> -42.75 | AT19: 3 | AU19: 5.25 | AV19: 3 | AW19: 1.5 | AX19: 6.5 | AY19: 6 | AZ19: =2+6 -> 8 | BA19: 2.5 | BB19: 1.5
A20: Prosjektledelse | B20: =(16*16) -> 256 | C20: =SUM(G20:BA20) -> 246.75 | D20: 0 | E20: =(C20+D20) -> 246.75 | F20: =E20-B20 -> -9.25 | N20: 2 | O20: 7.75 | P20: 5.75 | Q20: 15.25 | R20: 4.25 | S20: 4 | T20: 11.5 | U20: 6 | V20: 10.5 | W20: 20.75 | X20: 16.5 | Y20: 6.5 | Z20: 14 | AA20: 6 | AB20: 8.5 | AC20: 16.5 | AD20: 8 | AI20: 7.75 | AJ20: 14.25 | AK20: 4.25 | AL20: 3 | AM20: 8 | AN20: 14.5 | AP20: 5 | AQ20: 10.25 | AR20: 12 | AS20: 1 | AT20: 2 | AX20: 1 | CP20: setter kanskje mye opp som prosjektledelse når det egentlig er kartlegging?
A21: Totalt | B21: =SUM(B15:B20) -> 856 | C21: =SUM(C15:C20) -> 810.5 | D21: =SUM(D15:D20) -> 0 | E21: =SUM(E15:E20) -> 810.5 | F21: =SUM(F15:F20) -> -45.5 | N21: =SUM(N15:N20) -> 2 | O21: =SUM(O15:O20) -> 9 | P21: =SUM(P15:P20) -> 5.75 | Q21: =SUM(Q15:Q20) -> 22.25 | R21: =SUM(R15:R20) -> 18.75 | S21: =SUM(S15:S20) -> 4 | T21: =SUM(T15:T20) -> 41.75 | U21: =SUM(U15:U20) -> 30.75 | ... BM21: =SUM(BM15:BM20) -> 0 | BQ21: =SUM(BQ15:BQ20) -> 0
A23: Aktiviteter Fase 2 | B23: Timer budsjett | C23: Timer utført | D23: Estimert gjenstående | E23: Prognose | F23: OR/UR | G23: Timer utført uke 4 | H23: Timer utført uke 5 | I23: Timer utført uke 6 | J23: Timer utført uke 7 | K23: Timer utført uke 8 | L23: Timer utført uke 9 | M23: Timer utført uke 10 | N23: Timer utført uke 11 | O23: Timer utført uke 12 | P23: Timer utført uke 13 | Q23: Timer utført uke 14 | R23: Timer utført uke 15 | S23: Timer utført uke 16 | T23: Timer utført uke 17 | U23: Timer utført uke 18 | V23: Timer utført uke 19 | W23: Timer utført uke 20 | X23: Timer utført uke 21 | Y23: Timer utført uke 22 | Z23: Timer utført uke 23 | AA23: Timer utført uke 24 | AB23: Timer utført uke 25 | AC23: Timer utført uke 26 | AD23: Timer utført uke 27 | AE23: Timer utført uke 28 | AF23: Timer utført uke 29 | AG23: Timer utført uke 30 | AH23: Timer utført uke 31 | AI23: Timer utført uke 32 | AJ23: Timer utført uke 33 | AK23: Timer utført uke 34 | AL23: Timer utført uke 35 | AM23: Timer utført uke 36 | AN23: Timer utført uke 37 | AO23: Timer utført uke 38 | AP23: Timer utført uke 39 | AQ23: Timer utført uke 40 | AR23: Timer utført uke 41 | AS23: Timer utført uke 42 | AT23: Timer utført uke 43 | AU23: Timer utført uke 44 | AV23: Timer utført uke 45 | AW23: Timer utført uke 46 | AX23: Timer utført uke 47 | AY23: Timer utført uke 48 | AZ23: Timer utført uke 49 | BA23: Timer utført uke 50 | BB23: Timer utført uke 51 | BC23: Timer utført uke 52 | BD23: Timer utført uke 1 | BE23: Timer utført uke 2 | BF23: Timer utført uke 3 | BG23: Timer utført uke 4 | BH23: Timer utført uke 5 | BI23: Timer utført uke 6 | BJ23: Timer utført uke 7 | BK23: Timer utført uke 8 | BL23: Timer utført uke 9 | BM23: Timer utført uke 10 | BN23: Timer utført uke 11 | BO23: Timer utført uke 12 | BP23: Timer utført uke 13 | BQ23: Timer utført uke 14 | BR23: Timer utført uke 15 | BS23: Timer utført uke 16 | BT23: Timer utført uke 17 | BU23: Timer utført uke 18 | BV23: Timer utført uke 19 | BW23: Timer utført uke 20 | BX23: Timer utført uke 21 | BY23: Timer utført uke 22 | BZ23: Timer utført uke 23 | CA23: Timer utført uke 24 | CB23: Timer utført uke 25 | CC23: Timer utført uke 26 | CD23: Timer utført uke 27 | CE23: Timer utført uke 28 | CF23: Timer utført uke 29 | CG23: Timer utført uke 30 | CH23: Timer utført uke 31 | CI23: Timer utført uke 32 | CJ23: Timer utført uke 33 | CK23: Timer utført uke 34 | CL23: Timer utført uke 35 | CM23: Timer utført uke 36 | CN23: Timer utført uke 37 | CO23: Timer utført uke 38 | CP23: Status
A24: Utrede konsepter | B24: 80 | C24: =SUM(G24:CO24) -> 26 | D24: 0 | E24: =(C24+D24) -> 26 | F24: =E24-B24 -> -54 | AO24: 4 | AP24: 5 | AR24: 16 | AX24: 1
A25: 2.1. NSD Konseptarbeid/UX | B25: 120 | C25: =SUM(G25:CO25) -> 204.25 | D25: 0 | E25: =(C25+D25) -> 204.25 | F25: =E25-B25 -> 84.25 | AS25: =2+2 -> 4 | AT25: 2.5 | AX25: =1+2 -> 3 | AZ25: 2 | BA25: =6+1 -> 7 | BB25: =1.5+6.5 -> 8 | BE25: 13.5 | BF25: =1.5+7.25 -> 8.75 | BG25: =1.5+10.25 -> 11.75 | BH25: 2 | BI25: 2.25 | BJ25: 7 | BL25: =2+6.5 -> 8.5 | BM25: 7 | BN25: =3+2 -> 5 | BS25: 12 | BT25: 2 | BU25: 6 | BV25: 17.25 | BW25: 2 | BX25: 9.75 | BY25: 18.5 | BZ25: 15.5 | CA25: 11 | CC25: 1 | CH25: 17
A26: 2.1. NSD Utvikling | B26: 230 | C26: =SUM(G26:CO26) -> 639.5 | D26: 23 | E26: =(C26+D26) -> 662.5 | F26: =E26-B26 -> 432.5 | AV26: 1.5 | AX26: 1 | AZ26: 2 | BA26: 3 | BB26: 2 | BE26: 4.5 | BF26: =16.75+1+1.5 -> 19.25 | BG26: 22 | BH26: =21+11.5 -> 32.5 | BI26: =24+9+6 -> 39 | BJ26: =24+2+28.5 -> 54.5 | BK26: =6+17.5+7 -> 30.5 | BL26: =4+9+7 -> 20 | BM26: =18.25+3 -> 21.25 | BN26: =14.75+1 -> 15.75 | BO26: =9+11.75 -> 20.75 | BP26: 16 | BQ26: 15.75 | BR26: 8 | BS26: 21 | BT26: =2+20.5 -> 22.5 | BU26: 8 | BV26: =8.5+25 -> 33.5 | BW26: =16+25.75 -> 41.75 | BX26: =16.5+12 -> 28.5 | BY26: 36 | BZ26: 12 | CA26: 15 | CB26: =23+10 -> 33 | CC26: =12+4.5 -> 16.5 | CD26: 7 | CI26: 7.5 | CJ26: 19 | CK26: 9
A27: 2.1. NSD Brukertesting | B27: 50 | C27: =SUM(G27:CO27) -> 40.25 | D27: 0 | E27: =(C27+D27) -> 40.25 | F27: =E27-B27 -> -9.75 | BM27: =1+1 -> 2 | BU27: 6 | BV27: 3 | BW27: =8.25+15 -> 23.25 | BX27: =1.5+3 -> 4.5 | BY27: =1.5 -> 1.5
A28: 2.2. Konseptarbeid/UX | B28: 120 | C28: =SUM(G28:BQ28) -> 0 | D28: 0 | E28: =(C28+D28) -> 0 | F28: =E28-B28 -> -120
A29: 2.2. Utvikling | B29: 150 | C29: =SUM(G29:BQ29) -> 0 | D29: 0 | E29: =(C29+D29) -> 0 | F29: =E29-B29 -> -150
A30: 2.2. Brukertesting | B30: 50 | C30: =SUM(G30:BQ30) -> 0 | D30: 0 | E30: =(C30+D30) -> 0 | F30: =E30-B30 -> -50
A31: Prosjektledelse totalt Fase 2 | B31: 231.31 | C31: =SUM(G31:CO31) -> 237.25 | D31: 9.25 | E31: =(C31+D31) -> 246.5 | F31: =E31-B31 -> 15.19 | AP31: 7 | AQ31: 6.5 | AS31: =3.25+0.5 -> 3.75 | AT31: 5 | AV31: 5 | AX31: 5.75 | AY31: 8 | AZ31: 6.5 | BA31: 6.75 | BB31: 10.25 | BD31: 2 | BE31: 4.5 | BF31: 3.75 | BG31: 5 | BH31: 3 | BI31: 6.5 | BJ31: 13.5 | BK31: 4 | BL31: 5.75 | BM31: 4 | BN31: 8 | BP31: 2 | BQ31: 1 | BR31: 3 | BS31: 2 | BT31: 3.5 | BU31: 6 | BV31: 8.5 | BW31: 6 | BX31: 6 | BY31: 14.5 | BZ31: 5 | CA31: 8 | CB31: 5 | CC31: 3 | CH31: 23 | CI31: 2.75 | CJ31: 6.5 | CK31: 7
A32: Totalt | B32: =SUM(B24:B31) -> 1031.31 | C32: =SUM(C24:C31) -> 1147.25 | D32: =SUM(D24:D31) -> 32.25 | E32: =SUM(E24:E31) -> 1179.5 | F32: =SUM(F24:F31) -> 148.19 | AK32: =SUM(AK24:AK31) -> 0 | AL32: =SUM(AL24:AL31) -> 0 | AM32: =SUM(AM24:AM31) -> 0 | AN32: =SUM(AN24:AN31) -> 0 | AO32: =SUM(AO24:AO31) -> 4 | AP32: =SUM(AP24:AP31) -> 12 | AQ32: =SUM(AQ24:AQ31) -> 6.5 | AR32: =SUM(AR24:AR31) -> 16 | ... CO32: =SUM(CO24:CO31) -> 0
A34: Aktiviteter totalt | B34: Timer budsjett | C34: Timer utført | D34: Estimert gjenstående | E34: Prognose | F34: OR/UR | G34: Timer utført uke 4 | H34: Timer utført uke 5 | I34: Timer utført uke 6 | J34: Timer utført uke 7 | K34: Timer utført uke 8 | L34: Timer utført uke 9 | M34: Timer utført uke 10 | N34: Timer utført uke 11 | O34: Timer utført uke 12 | P34: Timer utført uke 13 | Q34: Timer utført uke 14 | R34: Timer utført uke 15 | S34: Timer utført uke 16 | T34: Timer utført uke 17 | U34: Timer utført uke 18 | V34: Timer utført uke 19 | W34: Timer utført uke 20 | X34: Timer utført uke 21 | Y34: Timer utført uke 22 | Z34: Timer utført uke 23 | AA34: Timer utført uke 24 | AB34: Timer utført uke 25 | AC34: Timer utført uke 26 | AD34: Timer utført uke 27 | AE34: Timer utført uke 28 | AF34: Timer utført uke 29 | AG34: Timer utført uke 30 | AH34: Timer utført uke 31 | AI34: Timer utført uke 32 | AJ34: Timer utført uke 33 | AK34: Timer utført uke 34 | AL34: Timer utført uke 35 | AM34: Timer utført uke 36 | AN34: Timer utført uke 37 | AO34: Timer utført uke 38 | AP34: Timer utført uke 39 | AQ34: Timer utført uke 40 | AR34: Timer utført uke 41 | AS34: Timer utført uke 42 | AT34: Timer utført uke 43 | AU34: Timer utført uke 44 | AV34: Timer utført uke 45 | AW34: Timer utført uke 46 | AX34: Timer utført uke 47 | AY34: Timer utført uke 48 | AZ34: Timer utført uke 49 | BA34: Timer utført uke 50 | BB34: Timer utført uke 51 | BC34: Timer utført uke 52 | BD34: Timer utført uke 1 | BE34: Timer utført uke 2 | BF34: Timer utført uke 3 | BG34: Timer utført uke 4 | BH34: Timer utført uke 5 | BI34: Timer utført uke 6 | BJ34: Timer utført uke 7 | BK34: Timer utført uke 8 | BL34: Timer utført uke 9 | BM34: Timer utført uke 10 | BQ34: Timer utført uke 11 | CP34: Kommentar
A35: Fase 0 | B35: =(B6) -> 150 | C35: =(C6) -> 105.25 | D35: =(D6) -> 0 | E35: =(E6) -> 105.25 | F35: =(F6) -> -44.75
A36: Fase 1 Prosess 1.1 | B36: =(B12) -> 200 | C36: =(C12) -> 176.75 | D36: =(D12) -> 0 | E36: =(E12) -> 176.75 | F36: =(F12) -> -23.25
A37: Fase 1 Prosess 1.2 | B37: =(B21) -> 856 | C37: =(C21) -> 810.5 | D37: =(D21) -> 0 | E37: =(E21) -> 810.5 | F37: =(F21) -> -45.5
A38: Fase 2 | B38: =(B32) -> 1031.31 | C38: =(C32) -> 1147.25 | D38: =(D32) -> 32.25 | E38: =(E32) -> 1179.5 | F38: =(F32) -> 148.19
A39: Totalt | B39: =SUM(B6,B12,B21,B32) -> 2237.31 | C39: =SUM(C35:C38) -> 2239.75 | D39: =SUM(D35:D38) -> 32.25 | E39: =SUM(E35:E38) -> 2272 | F39: =SUM(F35:F38) -> 34.69 | BA39: =BA32+BA21+BA12+BA6 -> 36.75 | BB39: =BB32+BB21+BB12+BB6 -> 26.75 | BC39: =BC32+BC21+BC12+BC6 -> 3 | BD39: =BD32+BD21+BD12+BD6 -> 14.5 | BE39: =BE32+BE21+BE12+BE6 -> 27.5 | BF39: =BF32+BF21+BF12+BF6 -> 31.75 | BG39: =BG32+BG21+BG12+BG6 -> 38.75 | BH39: =BH32+BH21+BH12+BH6 -> 37.5 | BI39: =BI32+BI21+BI12+BI6 -> 47.75 | BQ39: =BQ32+BQ21+BQ12+BQ6 -> 16.75

Sheet Prognose
A1: Aktivitet | B1: Budsjett (timer) | C1: Prognose (timer) | D1: Budsjett (pris) | E1: Prognose (pris) | F1: OR/UR
A2: Fase 0 | B2: =('Timer Web'!B6) -> 150 | C2: =('Timer Web'!E6) -> 105.25 | D2: =(B2*650) -> 97500 | E2: =(C2*670) -> 70517.5 | F2: =(E2/D2) -> 0.72325641
A3: Prosess 1.1 | B3: =('Timer Web'!B12) -> 200 | C3: =('Timer Web'!E12) -> 176.75 | D3: =(B3*670) -> 134000 | E3: =(C3*670) -> 118422.5 | F3: =(E3/D3) -> 0.88375
A4: Prosess 1.2 | B4: =('Timer Web'!B21) -> 856 | C4: =('Timer Web'!E21) -> 810.5 | D4: =(B4*670) -> 573520 | E4: =(C4*670) -> 543035 | F4: =(E4/D4) -> 0.94684579
A5: Fase 2 prosess 2.1. | B5: =('Timer Web'!B32) -> 1031.31 | C5: =('Timer Web'!E32) -> 1179.5 | D5: =(B5*670) -> 690977.7 | E5: =(C5*690) -> 813855 | F5: =(E5/D5) -> 1.1778311
A6: satt av til reise | D6: 50000 | E6: 0
A7: Totalt | B7: =SUM(B2:B5) -> 2237.31 | C7: =SUM(C2:C5) -> 2272 | D7: =SUM(D2:D6) -> 1545997.7 | E7: =SUM(E2:E6) -> 1545830 | F7: =(E7/D7) -> 0.99989153
A9: Budsjettet var 2240 t/ kr 1.496.000 totalt men dette var 2018 og 19-priser. Vi har gjort arbeidet i 2019 og 2020
A10: På grunn av dette blir det færre timer i forhold til budsjettet som var satt i prosjektbeskrivelsen.
A12: Det var satt av 50.000 ekstra til reiser. Kan vi bruke det?
A14: 126,5 timer av prosess 2.1 er gjort i 2019
A15: 17,5 timer av prosess 1.2. er gjort i 2020
A17: Se fanen "regnskap"

Sheet Timer totalt
A1: Timekontroll og prognose
A3: Aktiviteter totalt | B3: Timer budsjett | C3: Timer utført | D3: Estimert gjenstående | E3: Prognose | F3: OR/UR
A4: Webseksjonen | B4: =('Timer Web'!B39) -> 2237.31 | C4: =('Timer Web'!C39) -> 2239.75 | D4: =('Timer Web'!D39) -> 32.25 | E4: =('Timer Web'!E39) -> 2272 | F4: =('Timer Web'!F39) -> 34.69
A5: Juss | C5: =('Timer Juss og AF'!C8) -> 57.5
A6: AF | C6: =('Timer Juss og AF'!C15) -> 0
A7: Totalt | B7: =SUM(B4:B6) -> 2237.31 | C7: =SUM(C4:C6) -> 2297.25 | D7: =SUM(D4:D6) -> 32.25 | E7: =SUM(E4:E6) -> 2272 | F7: =SUM(F4:F6) -> 34.69

Sheet Regnskap
A1: Januar/Februar (uke 4-9)
A2: Aktivitet | B2: Antall timer | C2: Fakturert beløp | D2: Utgifter | E2: Balanse
A3: Fase 0 | B3: =SUM('Timer Web'!G6:L6) -> 101.25 | C3: =(B3*670) -> 67837.5
A4: Prosess 1.1 | B4: =SUM('Timer Web'!G12:L12) -> 56.25 | C4: =(B4*670) -> 37687.5
A5: Prosess 1.2 | B5: =SUM('Timer Web'!G21:L21) -> 0 | C5: =(B5*670) -> 0
A6: Prosess 2.1 | C6: =(B6*670) -> 0
A7: Prosess 2.2 | C7: =(B7*670) -> 0
A8: Totalt | B8: =SUM(B3:B7) -> 157.5 | C8: =SUM(C3:C7) -> 105525 | E8: =(C8-D8) -> 105525
A10: Mars (uke 10-13)
A11: Aktivitet | B11: Antall timer | C11: Fakturert beløp | D11: Utgifter | E11: Balanse
A12: Fase 0 | B12: =SUM('Timer Web'!M6:P6) -> 4 | C12: =(B12*670) -> 2680
A13: Prosess 1.1 | B13: =SUM('Timer Web'!M12:P12) -> 119.5 | C13: =(B13*670) -> 80065
A14: Prosess 1.2 | B14: =SUM('Timer Web'!M21:P21) -> 16.75 | C14: =(B14*670) -> 11222.5
A15: Prosess 2.1 | C15: =(B15*670) -> 0
A16: Prosess 2.2 | C16: =(B16*670) -> 0
A17: Totalt | B17: =SUM(B12:B16) -> 140.25 | C17: =SUM(C12:C16) -> 93967.5 | E17: =(C17-D17) -> 93967.5
A19: April (uke 14-17)
A20: Aktivitet | B20: Antall timer | C20: Fakturert beløp | D20: Utgifter | E20: Balanse
A21: Fase 0 | B21: =SUM('Timer Web'!Q6:T6) -> 0 | C21: =(B21*670) -> 0
A22: Prosess 1.1 | B22: =SUM('Timer Web'!Q12:T12) -> 1 | C22: =(B22*670) -> 670
A23: Prosess 1.2 | B23: =SUM('Timer Web'!Q21:T21) -> 86.75 | C23: =(B23*670) -> 58122.5
A24: Prosess 2.1 | C24: =(B24*670) -> 0
A25: Prosess 2.2 | C25: =(B25*670) -> 0
A26: Totalt | B26: =SUM(B21:B25) -> 87.75 | C26: =SUM(C21:C25) -> 58792.5 | E26: =(C26-D26) -> 58792.5
A28: Mai (uke 18-22)
A29: Aktivitet | B29: Antall timer | C29: Fakturert beløp | D29: Utgifter | E29: Balanse
A30: Prosess 1.2 | B30: =SUM('Timer Web'!U21:Y21) -> 121.25 | C30: =(B30*670) -> 81237.5
A31: Prosess 2.1 | C31: =(B31*670) -> 0
A32: Prosess 2.2 | C32: =(B32*670) -> 0
A33: Totalt | B33: =SUM(B30:B32) -> 121.25 | C33: =SUM(C30:C32) -> 81237.5 | E33: =(C33-D33) -> 81237.5
A35: Juni (uke 23-26)
A36: Aktivitet | B36: Antall timer | C36: Fakturert beløp | D36: Utgifter | E36: Balanse
A37: Fase 0 | C37: =(B37*670) -> 0
A38: Prosess 1.1 | B38: =SUM('Timer Web'!Z12:AC12) -> 0 | C38: =(B38*670) -> 0
A39: Prosess 1.2 | B39: =SUM('Timer Web'!Z21:AC21) -> 149 | C39: =(B39*670) -> 99830
A40: Prosess 2.1 | B40: =SUM('Timer Web'!Z32:AC32) -> 0 | C40: =(B40*670) -> 0
A41: Totalt | B41: =SUM(B37:B40) -> 149 | C41: =SUM(C37:C40) -> 99830 | E41: =(C41-D41) -> 99830
A43: Juli (uke 27-31)
A44: Aktivitet | B44: Antall timer | C44: Fakturert beløp | D44: Utgifter | E44: Balanse
A45: Prosess 1.2 | B45: =SUM('Timer Web'!AD21:AH21) -> 20.5 | C45: =(B45*670) -> 13735
A46: Prosess 2.1 | B46: =SUM('Timer Web'!AD32:AH32) -> 0 | C46: =(B46*670) -> 0
A47: Totalt | B47: =SUM(B45:B46) -> 20.5 | C47: =SUM(C45:C46) -> 13735 | E47: =(C47-D47) -> 13735
A49: August (uke 32-35)
A50: Aktivitet | B50: Antall timer | C50: Fakturert beløp | D50: Utgifter | E50: Balanse
A51: Prosess 1.2 | B51: =SUM('Timer Web'!AI21:AL21) -> 151.5 | C51: =(B51*670) -> 101505
A52: Prosess 2.1 | B52: =SUM('Timer Web'!AI32:AL32) -> 0 | C52: =(B52*670) -> 0
A53: Totalt | B53: =SUM(B51:B52) -> 151.5 | C53: =SUM(C51:C52) -> 101505 | E53: =(C53-D53) -> 101505
A55: September (uke 36-39)
A56: Aktivitet | B56: Antall timer | C56: Fakturert beløp | D56: Utgifter | E56: Balanse
A57: Prosess 1.2 | B57: =SUM('Timer Web'!AM21:AP21) -> 69.5 | C57: =(B57*670) -> 46565
A58: Prosess 2.1 | B58: =SUM('Timer Web'!AM32:AP32) -> 16 | C58: =(B58*670) -> 10720
A59: Totalt | B59: =SUM(B57:B58) -> 85.5 | C59: =SUM(C57:C58) -> 57285 | E59: =(C59-D59) -> 57285
A61: Oktober (uke 40-44)
A62: Aktivitet | B62: Antall timer | C62: Fakturert beløp | D62: Utgifter | E62: Balanse
A63: Prosess 1.2 | B63: =SUM('Timer Web'!AQ21:AU21) -> 86.5 | C63: =(B63*670) -> 57955
A64: Prosess 2.1 | B64: =SUM('Timer Web'!AQ32:AU32) -> 37.75 | C64: =(B64*670) -> 25292.5
A65: Totalt | B65: =SUM(B63:B64) -> 124.25 | C65: =SUM(C63:C64) -> 83247.5 | E65: =(C65-D65) -> 83247.5
A67: November (uke 45-48)
A68: Aktivitet | B68: Antall timer | C68: Fakturert beløp | D68: Utgifter | E68: Balanse
A69: Prosess 1.2 | B69: =SUM('Timer Web'!AV21:AY21) -> 34.25 | C69: =(B69*670) -> 22947.5
A70: Prosess 2.1 | B70: =SUM('Timer Web'!AV32:AY32) -> 25.25 | C70: =(B70*670) -> 16917.5
A71: Totalt | B71: =SUM(B69:B70) -> 59.5 | C71: =SUM(C69:C70) -> 39865 | E71: =(C71-D71) -> 39865
A73: Desember (uke 49-50)
A74: Aktivitet | B74: Antall timer | C74: Fakturert beløp | D74: Utgifter | E74: Balanse
A75: Prosess 1.2 | B75: =SUM('Timer Web'!AZ21:BC21) -> 57 | C75: =(B75*670) -> 38190
A76: Prosess 2.1 | B76: =SUM('Timer Web'!AZ32:BC32) -> 47.5 | C76: =(B76*670) -> 31825
A77: Totalt | B77: =SUM(B75:B76) -> 104.5 | C77: =SUM(C75:C76) -> 70015 | E77: =(C77-D77) -> 70015
A79: Januar (uke 1-5)
A80: Aktivitet | B80: Antall timer | C80: Fakturert beløp | D80: Utgifter | E80: Balanse
A81: Prosess 1.2 | B81: =SUM('Timer Web'!BD21:BH21) -> 17.5 | C81: =(B81*690) -> 12075
A82: Prosess 2.1 | B82: =SUM('Timer Web'!BD32:BH32) -> 132.5 | C82: =(B82*690) -> 91425
A83: Totalt | B83: =SUM(B81:B82) -> 150 | C83: =SUM(C81:C82) -> 103500 | E83: =(C83-D83) -> 103500
A85: Februar (uke 6-9)
A86: Aktivitet | B86: Antall timer | C86: Fakturert beløp | D86: Utgifter | E86: Balanse
A87: Prosess 2.1 | B87: =SUM('Timer Web'!BI32:BL32) -> 191.5 | C87: =(B87*690) -> 132135
A88: Totalt | B88: =SUM(B87:B87) -> 191.5 | C88: =SUM(C87:C87) -> 132135 | E88: =(C88-D88) -> 132135
A90: Mars (uke 10-13)
A91: Aktivitet | B91: Antall timer | C91: Fakturert beløp | D91: Utgifter | E91: Balanse
A92: Prosess 2.1 | B92: =SUM('Timer Web'!BM32:BP32) -> 101.75 | C92: =(B92*690) -> 70207.5
A93: Totalt | B93: =SUM(B92:B92) -> 101.75 | C93: =SUM(C92:C92) -> 70207.5 | E93: =(C93-D93) -> 70207.5
A95: April (uke 14-18)
A96: Aktivitet | B96: Antall timer | C96: Fakturert beløp | D96: Utgifter | E96: Balanse
A97: Prosess 2.1 | B97: =SUM('Timer Web'!BQ32:BU32) -> 116.75 | C97: =(B97*690) -> 80557.5
A98: Totalt | B98: =SUM(B97:B97) -> 116.75 | C98: =SUM(C97:C97) -> 80557.5 | E98: =(C98-D98) -> 80557.5
B99: Timer | C99: Sum
A100: Mai (uke 19-22)
A101: Aktivitet | B101: Antall timer | C101: Fakturert beløp | D101: Utgifter | E101: Balanse
A102: Prosess 2.1 | B102: =SUM('Timer Web'!BV32:BY32) -> 254.5 | C102: =(B102*690) -> 175605
A103: Totalt | B103: =SUM(B102:B102) -> 254.5 | C103: =SUM(C102:C102) -> 175605 | E103: =(C103-D103) -> 175605
A105: Juni (uke 23-26)
A106: Aktivitet | B106: Antall timer | C106: Fakturert beløp | D106: Utgifter | E106: Balanse
A107: Prosess 2.1 | B107: =SUM('Timer Web'!BZ32:CC32) -> 125 | C107: =(B107*690) -> 86250
A108: Totalt | B108: =SUM(B107:B107) -> 125 | C108: =SUM(C107:C107) -> 86250 | E108: =(C108-D108) -> 86250
A110: Juli (uke 27-31)
A111: Aktivitet | B111: Antall timer | C111: Fakturert beløp | D111: Utgifter | E111: Balanse
A112: Prosess 2.1 | B112: =SUM('Timer Web'!CD32:CH32) -> 47 | C112: =(B112*690) -> 32430
A113: Totalt | B113: =SUM(B112:B112) -> 47 | C113: =SUM(C112:C112) -> 32430 | E113: =(C113-D113) -> 32430
A115: August (uke 32-35)
A116: Aktivitet | B116: Antall timer | C116: Fakturert beløp | D116: Utgifter | E116: Balanse
A117: Prosess 2.1 | B117: =SUM('Timer Web'!CI32:CL32) -> 51.75 | C117: =(B117*690) -> 35707.5
...

Sheet Timer Juss og AF
A1: Timekontroll og prognose
A3: Aktiviteter Juss | B3: Prosent av full stilling | C3: Timer utført | D3: Timer utført uke 4 | E3: Timer utført uke 5 | F3: Timer utført uke 6 | G3: Timer utført uke 7 | H3: Timer utført uke 8 | I3: Timer utført uke 9 | J3: Timer utført uke 10 | K3: Timer utført uke 11 | L3: Timer utført uke 12 | M3: Timer utført uke 13 | N3: Timer utført uke 14 | O3: Timer utført uke 15 | P3: Timer utført uke 16 | Q3: Timer utført uke 17 | R3: Timer utført uke 18 | S3: Timer utført uke 19 | T3: Timer utført uke 20 | U3: Timer utført uke 21 | V3: Timer utført uke 22 | W3: Timer utført uke 23 | X3: Timer utført uke 24 | Y3: Timer utført uke 25 | Z3: Timer utført uke 26 | AA3: Timer utført uke 27 | AB3: Timer utført uke 28 | AC3: Timer utført uke 29 | AD3: Timer utført uke 30 | AE3: Timer utført uke 31 | AF3: Timer utført uke 32 | AG3: Timer utført uke 33 | AH3: Timer utført uke 34 | AI3: Timer utført uke 35 | AJ3: Timer utført uke 36 | AK3: Timer utført uke 37 | AL3: Timer utført uke 38 | AM3: Timer utført uke 39 | AN3: Timer utført uke 40 | AO3: Timer utført uke 41 | AP3: Timer utført uke 42 | AQ3: Timer utført uke 43 | AR3: Timer utført uke 44 | AS3: Timer utført uke 45 | AT3: Timer utført uke 46 | AU3: Timer utført uke 47 | AV3: Timer utført uke 48 | AW3: Timer utført uke 49 | AX3: uke 202022 | AY3: uke 202024 | AZ3: Timer utført uke 50 | BA3: Kommentar
A4: Prosjektetablering | B4: =AVERAGE(D4:AZ4)/37.5 -> 0.14 | C4: =SUM(D4:AZ4) -> 10.5 | F4: 2.5 | G4: 8
A5: Prosess 1.1 - Utbedringer GDPR | B5: =AVERAGE(D5:AZ5)/37.5 -> 0.078666667 | C5: =SUM(D5:AZ5) -> 14.75 | H5: 4.25 | J5: 2 | L5: 3.5 | M5: 0.5 | O5: 4.5
A6: Prosess 1.2 - Allforsk | B6: =AVERAGE(D6:AZ6)/37.5 -> 0.070833333 | C6: =SUM(D6:AZ6) -> 21.25 | Q6: 5.5 | S6: 1 | T6: 2 | Y6: 0.25 | Z6: 4 | AF6: 3 | AJ6: 0.5 | AM6: 5
A7: Fase 2 | B7: =AVERAGE(D7:AZ7)/37.5 -> 0.058666667 | C7: =SUM(D7:AZ7) -> 11 | D7: 0 | AV7: 1 | AW7: 4 | AX7: 4 | AY7: 2
A8: Totalt | B8: =AVERAGE(D8:AZ8) -> 0.030833333 | C8: =SUM(C4:C7) -> 57.5 | D8: =SUM(D4:D7)/37.5 -> 0 | E8: =SUM(E4:E7)/37.5 -> 0 | F8: =SUM(F4:F7)/37.5 -> 0.066666667 | G8: =SUM(G4:G7)/37.5 -> 0.21333333 | H8: =SUM(H4:H7)/37.5 -> 0.11333333 | I8: =SUM(I4:I7)/37.5 -> 0 | J8: =SUM(J4:J7)/37.5 -> 0.053333333 | K8: =SUM(K4:K7)/37.5 -> 0 | ... AX8: =SUM(AX4:AX7)/37.5 -> 0.10666667 | AZ8: =SUM(AZ4:AZ7)/37.5 -> 0
A10: Aktiviteter AF | B10: Prosent av full stilling | C10: Timer utført | D10: Timer utført uke 4 | E10: Timer utført uke 5 | F10: Timer utført uke 6 | G10: Timer utført uke 7 | H10: Timer utført uke 8 | I10: Timer utført uke 9 | J10: Timer utført uke 10 | K10: Timer utført uke 11 | L10: Timer utført uke 12 | M10: Timer utført uke 13 | N10: Timer utført uke 14 | O10: Timer utført uke 15 | P10: Timer utført uke 16 | Q10: Timer utført uke 17 | R10: Timer utført uke 18 | S10: Timer utført uke 19 | T10: Timer utført uke 20 | U10: Timer utført uke 21 | V10: Timer utført uke 22 | W10: Timer utført uke 23 | X10: Timer utført uke 24 | Y10: Timer utført uke 25 | Z10: Timer utført uke 26 | AA10: Timer utført uke 27 | AB10: Timer utført uke 28 | AC10: Timer utført uke 29 | AD10: Timer utført uke 30 | AE10: Timer utført uke 31 | AF10: Timer utført uke 32 | AG10: Timer utført uke 33 | AH10: Timer utført uke 34 | AI10: Timer utført uke 35 | AJ10: Timer utført uke 36 | AK10: Timer utført uke 37 | AL10: Timer utført uke 38 | AM10: Timer utført uke 39 | AN10: Timer utført uke 40 | AO10: Timer utført uke 41 | AP10: Timer utført uke 42 | AQ10: Timer utført uke 43 | AR10: Timer utført uke 44 | AS10: Timer utført uke 45 | AT10: Timer utført uke 46 | AU10: Timer utført uke 47 | AV10: Timer utført uke 48 | AW10: Timer utført uke 49 | AZ10: Timer utført uke 50 | BA10: Kommentar
A11: Prosjektetablering | C11: =SUM(D11:AZ11) -> 0
A12: Prosess 1.1 - Utbedringer GDPR | C12: =SUM(D12:AZ12) -> 0
A13: Prosess 1.2 - Allforsk | C13: =SUM(D13:AZ13) -> 0
A14: Fase 2 | C14: =SUM(D14:AZ14) -> 0
A15: Totalt | B15: =AVERAGE(D15:AZ15) -> 0 | C15: =SUM(C11:C14) -> 0 | D15: =SUM(D11:D14)/37.5 -> 0 | E15: =SUM(E11:E14)/37.5 -> 0 | F15: =SUM(F11:F14)/37.5 -> 0 | G15: =SUM(G11:G14)/37.5 -> 0 | H15: =SUM(H11:H14)/37.5 -> 0 | I15: =SUM(I11:I14)/37.5 -> 0 | J15: =SUM(J11:J14)/37.5 -> 0 | K15: =SUM(K11:K14)/37.5 -> 0 | ... AW15: =SUM(AW11:AW14)/37.5 -> 0 | AZ15: =SUM(AZ11:AZ14)/37.5 -> 0
