Workbook

Sheet Input
A1: 4. studieår
A3: Forventet antall studenter pr semester i undervisning | B3: 250
A4: Forventet antall studenter pr semester som tar eksamen | B4: 483
A5: Timer disponibelt totalt pr semester | B5: =20*50 -> 1000
A6: Timer pr studiepoeng | B6: =B5/50 -> 20
A8: Timesats undervisning | B8: 2050
A9: Timesats oppgaver jurist | B9: 340 | C9: Jurist
A10: Timesats oppgaver student | B10: 183 | C10: Student
A11: Timesats kollokvie | B11: =335.8*1.28 -> 429.824
A12: Sats for arbeidsgiveravgift sensur | B12: 0.141
A13: Sats for eksamen 4-timer | B13: 325 | C13: 4
A14: Sats for eksamen 6-timer | B14: 461 | C14: 6

Sheet Forelesning
B1: Antall timer | C1: Kostnad
A2: Fag
A3: JUS4211
A4: Prosess og strafferett
A5: Introduksjon (4211) | B5: 2 | C5: =B5*Input!$B$8 -> 4100
A6: Sivilprosess | B6: 20 | C6: =B6*Input!$B$8 -> 41000
A7: Strafferett | B7: 18 | C7: =B7*Input!$B$8 -> 36900
A8: Straffeprosess | B8: 18 | C8: =B8*Input!$B$8 -> 36900
A9: Yrkesteknikk | B9: 0 | C9: =B9*Input!$B$8 -> 0
A10: Rettssakskurs | C10: =B10*Input!$B$8 -> 0
A11: Prosjektkurs (tidl klinisk)* | B11: 0 | C11: =B11*Input!$B$8 -> 0
A12: Manuduksjoner | C12: =B12*Input!$B$8 -> 0
A13: Oppgaveløsningsseminar fak.oppg | B13: 6 | C13: =B13*Input!$B$8 -> 12300
A15: JUS4111
A16: Metode og etikk
A17: Introduksjon (4111) | B17: 2 | C17: =B17*Input!$B$8 -> 4100
A18: Metode | B18: 18 | C18: =B18*Input!$B$8 -> 36900
A19: Etikk | B19: 4 | C19: =B19*Input!$B$8 -> 8200
A20: Perspektivfag
A21: Rettshistorie
A22: intro i rettsøkonomi/rettssosiologi | B22: 3 | C22: =B22*Input!$B$8 -> 6150
A23: Rettssosiologi | B23: 14 | C23: =B23*Input!$B$8 -> 28700
A24: Rettsøkonomi | B24: 14 | C24: =B24*Input!$B$8 -> 28700
A25: Rettsfilosofi | B25: 14 | C25: =B25*Input!$B$8 -> 28700
A26: Manuduksjoner (spørretime) Metode | C26: =B26*Input!$B$8 -> 0
A27: Oppgaveløsningsseminar fak.oppg** | B27: 10 | C27: =B27*Input!$B$8 -> 20500
A28: Totalt | B28: =SUM(B3:B27) -> 143 | C28: =SUM(C3:C27) -> 293150

Sheet Kurs
A2: Fag | B2: Antall kurs-timer | C2: Antall deltakere per kurs | D2: Antall kursgrupper | E2: Kostnad
A3: JUS4211
A4: Prosess og strafferett
A5: Introduksjon (4211) | D5: =IF(C5>0,Input!$B$3/Kurs!C5,0) -> 0 | E5: =D5*B5*Input!$B$8 -> 0
A6: Sivilprosess | B6: 18 | C6: 40 | D6: =IF(C6>0,Input!$B$3/Kurs!C6,0) -> 6.25 | E6: =D6*B6*Input!$B$8 -> 230625
A7: Strafferett | B7: 18 | C7: 40 | D7: =IF(C7>0,Input!$B$3/Kurs!C7,0) -> 6.25 | E7: =D7*B7*Input!$B$8 -> 230625
A8: Straffeprosess | B8: 18 | C8: 40 | D8: =IF(C8>0,Input!$B$3/Kurs!C8,0) -> 6.25 | E8: =D8*B8*Input!$B$8 -> 230625
A9: Yrkesteknikk | D9: =IF(C9>0,Input!$B$3/Kurs!C9,0) -> 0 | E9: =D9*B9*Input!$B$8 -> 0
A10: Rettssakskurs | B10: 9 | C10: 25 | D10: =IF(C10>0,Input!$B$3/Kurs!C10,0) -> 10 | E10: =D10*B10*Input!$B$8 -> 184500
A11: Prosjektkurs (tidl klinisk) | D11: =IF(C11>0,Input!$B$3/Kurs!C11,0) -> 0 | E11: =D11*B11*Input!$B$8 -> 0
A12: Manuduksjoner | D12: =IF(C12>0,Input!$B$3/Kurs!C12,0) -> 0 | E12: =D12*B12*Input!$B$8 -> 0
A13: Oppgaveløsningsseminar fak.oppg | D13: =IF(C13>0,Input!$B$3/Kurs!C13,0) -> 0 | E13: =D13*B13*Input!$B$8 -> 0
A15: JUS4111
A16: Metode og etikk
A17: Introduksjon (4111) | D17: =IF(C17>0,Input!$B$3/Kurs!C17,0) -> 0 | E17: =D17*B17*Input!$B$8 -> 0
A18: Metode | B18: 8 | C18: 40 | D18: =IF(C18>0,Input!$B$3/Kurs!C18,0) -> 6.25 | E18: =D18*B18*Input!$B$8 -> 102500
A19: Etikk | B19: 8 | C19: 40 | D19: =IF(C19>0,Input!$B$3/Kurs!C19,0) -> 6.25 | E19: =D19*B19*Input!$B$8 -> 102500
A20: Perspektivfag
A21: intro i rettsøkonomi/rettssosiologi | D21: =IF(C21>0,Input!$B$3/Kurs!C21,0) -> 0 | E21: =D21*B21*Input!$B$8 -> 0
A22: Rettssosiologi | B22: 10 | C22: 40 | D22: =IF(C22>0,Input!$B$3/Kurs!C22,0) -> 6.25 | E22: =D22*B22*Input!$B$8 -> 128125
A23: Rettsøkonomi | B23: 10 | C23: 30 | D23: =IF(C23>0,Input!$B$3/Kurs!C23,0) -> 8.3333333 | E23: =D23*B23*Input!$B$8 -> 170833.33
A24: Rettsfilosofi | B24: 10 | C24: 25 | D24: =IF(C24>0,Input!$B$3/Kurs!C24,0) -> 10 | E24: =D24*B24*Input!$B$8 -> 205000
A25: Manuduksjoner (spørretime) Metode | D25: =IF(C25>0,Input!$B$3/Kurs!C25,0) -> 0 | E25: =D25*B25*Input!$B$8 -> 0
A26: Oppgaveløsningsseminar fak.oppg | D26: =IF(C26>0,Input!$B$3/Kurs!C26,0) -> 0 | E26: =D26*B26*Input!$B$8 -> 0
A27: Totalt | B27: =SUM(B3:B26) -> 109 | E27: =SUM(E3:E26) -> 1585333.3

Sheet Smågrupper
A2: Fag | B2: Antall timer | C2: Antall deltakere pr gruppe | D2: Antall grupper | E2: Kostnad
A3: JUS4211
A4: Prosess og strafferett
A5: Introduksjon (4211) | D5: =IF(C5>0,Input!$B$3/C5,0) -> 0 | E5: =B5*D5*Input!$B$8 -> 0
A6: Sivilprosess | D6: =IF(C6>0,Input!$B$3/C6,0) -> 0 | E6: =B6*D6*Input!$B$8 -> 0
A7: Strafferett | D7: =IF(C7>0,Input!$B$3/C7,0) -> 0 | E7: =B7*D7*Input!$B$8 -> 0
A8: Straffeprosess | D8: =IF(C8>0,Input!$B$3/C8,0) -> 0 | E8: =B8*D8*Input!$B$8 -> 0
A9: Yrkesteknikk | D9: =IF(C9>0,Input!$B$3/C9,0) -> 0 | E9: =B9*D9*Input!$B$8 -> 0
A10: Rettssakskurs | D10: =IF(C10>0,Input!$B$3/C10,0) -> 0 | E10: =B10*D10*Input!$B$8 -> 0
A11: Prosjektkurs (tidl klinisk)* | D11: =IF(C11>0,Input!$B$3/C11,0) -> 0 | E11: =B11*D11*Input!$B$8 -> 0
A12: Manuduksjoner | D12: =IF(C12>0,Input!$B$3/C12,0) -> 0 | E12: =B12*D12*Input!$B$8 -> 0
A13: Oppgaveløsningsseminar fak.oppg | D13: =IF(C13>0,Input!$B$3/C13,0) -> 0 | E13: =B13*D13*Input!$B$8 -> 0
A15: JUS4111
A16: Metode og etikk
A17: Introduksjon (4111) | D17: =IF(C17>0,Input!$B$3/C17,0) -> 0 | E17: =B17*D17*Input!$B$8 -> 0
A18: Metode | D18: =IF(C18>0,Input!$B$3/C18,0) -> 0 | E18: =B18*D18*Input!$B$8 -> 0
A19: Etikk | D19: =IF(C19>0,Input!$B$3/C19,0) -> 0 | E19: =B19*D19*Input!$B$8 -> 0
A20: Perspektivfag | D20: =IF(C20>0,Input!$B$3/C20,0) -> 0 | E20: =B20*D20*Input!$B$8 -> 0
A21: intro i rettsøkonomi/rettssosiologi | D21: =IF(C21>0,Input!$B$3/C21,0) -> 0 | E21: =B21*D21*Input!$B$8 -> 0
A22: Rettssosiologi | D22: =IF(C22>0,Input!$B$3/C22,0) -> 0 | E22: =B22*D22*Input!$B$8 -> 0
A23: Rettsøkonomi | D23: =IF(C23>0,Input!$B$3/C23,0) -> 0 | E23: =B23*D23*Input!$B$8 -> 0
A24: Rettsfilosofi | D24: =IF(C24>0,Input!$B$3/C24,0) -> 0 | E24: =B24*D24*Input!$B$8 -> 0
A25: Manuduksjoner (spørretime) Metode | D25: =IF(C25>0,Input!$B$3/C25,0) -> 0 | E25: =B25*D25*Input!$B$8 -> 0
A26: Oppgaveløsningsseminar fak.oppg | D26: =IF(C26>0,Input!$B$3/C26,0) -> 0 | E26: =B26*D26*Input!$B$8 -> 0
A27: Totalt | B27: =SUM(B3:B25) -> 0 | E27: =SUM(E3:E25) -> 0

Sheet Eksamen
A2: Emne | B2: Antall kandidater | C2: Estimat ordinære | D2: Estimat gjentak | E2: Antall timer | F2: Sats (kroner pr sensurering) | G2: Ant sensorer | H2: Kostnad | I2: Herav gjentaks-kostnad
A3: Skoleeksamen 4. studieår, 1. semester | B3: =Input!$B$4 -> 483 | C3: =B3-D3 -> 377 | D3: =53*2 -> 106 | E3: 4 | F3: =IF(E3=6,Input!$B$14,Input!$B$13) -> 325 | G3: 2 | H3: =B3*F3*G3*(1+Input!$B$12) -> 358216.95 | I3: =H3*D3/C3 -> 100718.82
A4: Skoleeksamen 4. studieår, 2. semester | B4: =Input!$B$4 -> 483 | C4: =B4-D4 -> 423 | D4: =10*6 -> 60 | E4: 6 | F4: =IF(E4=6,Input!$B$14,Input!$B$13) -> 461 | G4: 2 | H4: =B4*F4*G4*(1+Input!$B$12) -> 508116.97 | I4: =H4*D4/C4 -> 72073.329
A5: Skoleeksamen 4. studieår, JUS4121 og JUS422 | B5: =Input!$B$4 -> 483 | C5: =B5-D5 -> 483 | D5: 0 | E5: 4 | F5: =IF(E5=6,Input!$B$14,Input!$B$13) -> 325 | G5: 2 | H5: =B5*F5*G5*(1+Input!$B$12) -> 358216.95 | I5: =H5*D5/C5 -> 0
A6: Totalt | H6: =SUM(H3:H5) -> 1224550.9 | I6: =SUM(I3:I5) -> 172792.15

Sheet Oppgaver
A2: Fag | B2: Fakultets-oppgaver | C2: Antall studenter | D2: Oppgaveretter | E2: Kostnad fak. oppgaver | F2: Kurs-oppgaver | G2: Antall studenter | H2: Oppgaveretter | I2: Kostnad kurs-oppgaver | J2: Kostnad
A3: JUS4211
A4: Prosess og strafferett
A5: Introduksjon (4211) | C5: =Input!$B$3*0.5 -> 125 | D5: Jurist | E5: =IF(D5=Input!$C$9,B5*C5*Input!$B$9,B5*C5*Input!$B$10) -> 0 | G5: =Input!$B$3*0.5 -> 125 | H5: Jurist | I5: =IF(H5=Input!$C$9,F5*G5*Input!$B$9,F5*G5*Input!$B$10) -> 0 | J5: =B5*C5*Input!$B$9+Oppgaver!F5*Oppgaver!G5*Input!$B$9 -> 0
A6: Sivilprosess | B6: 1 | C6: =Input!$B$3*0.5 -> 125 | D6: Jurist | E6: =IF(D6=Input!$C$9,B6*C6*Input!$B$9,B6*C6*Input!$B$10) -> 42500 | G6: =Input!$B$3*0.5 -> 125 | H6: Jurist | I6: =IF(H6=Input!$C$9,F6*G6*Input!$B$9,F6*G6*Input!$B$10) -> 0 | J6: =B6*C6*Input!$B$9+Oppgaver!F6*Oppgaver!G6*Input!$B$9 -> 42500
A7: Strafferett | B7: 1 | C7: =Input!$B$3*0.5 -> 125 | D7: Jurist | E7: =IF(D7=Input!$C$9,B7*C7*Input!$B$9,B7*C7*Input!$B$10) -> 42500 | G7: =Input!$B$3*0.5 -> 125 | H7: Jurist | I7: =IF(H7=Input!$C$9,F7*G7*Input!$B$9,F7*G7*Input!$B$10) -> 0 | J7: =B7*C7*Input!$B$9+Oppgaver!F7*Oppgaver!G7*Input!$B$9 -> 42500
A8: Straffeprosess | B8: 1 | C8: =Input!$B$3*0.5 -> 125 | D8: Jurist | E8: =IF(D8=Input!$C$9,B8*C8*Input!$B$9,B8*C8*Input!$B$10) -> 42500 | G8: =Input!$B$3*0.5 -> 125 | H8: Jurist | I8: =IF(H8=Input!$C$9,F8*G8*Input!$B$9,F8*G8*Input!$B$10) -> 0 | J8: =B8*C8*Input!$B$9+Oppgaver!F8*Oppgaver!G8*Input!$B$9 -> 42500
A9: Yrkesteknikk | C9: =Input!$B$3*0.5 -> 125 | D9: Jurist | E9: =IF(D9=Input!$C$9,B9*C9*Input!$B$9,B9*C9*Input!$B$10) -> 0 | G9: =Input!$B$3*0.5 -> 125 | H9: Jurist | I9: =IF(H9=Input!$C$9,F9*G9*Input!$B$9,F9*G9*Input!$B$10) -> 0 | J9: =B9*C9*Input!$B$9+Oppgaver!F9*Oppgaver!G9*Input!$B$9 -> 0
A10: Rettssakskurs | C10: =Input!$B$3*0.5 -> 125 | D10: Jurist | E10: =IF(D10=Input!$C$9,B10*C10*Input!$B$9,B10*C10*Input!$B$10) -> 0 | G10: =Input!$B$3*0.5 -> 125 | H10: Jurist | I10: =IF(H10=Input!$C$9,F10*G10*Input!$B$9,F10*G10*Input!$B$10) -> 0 | J10: =B10*C10*Input!$B$9+Oppgaver!F10*Oppgaver!G10*Input!$B$9 -> 0
A11: Prosjektkurs (tidl klinisk)* | C11: =Input!$B$3*0.5 -> 125 | D11: Jurist | E11: =IF(D11=Input!$C$9,B11*C11*Input!$B$9,B11*C11*Input!$B$10) -> 0 | G11: =Input!$B$3*0.5 -> 125 | H11: Jurist | I11: =IF(H11=Input!$C$9,F11*G11*Input!$B$9,F11*G11*Input!$B$10) -> 0 | J11: =B11*C11*Input!$B$9+Oppgaver!F11*Oppgaver!G11*Input!$B$9 -> 0
A12: Manuduksjoner | C12: =Input!$B$3*0.5 -> 125 | D12: Jurist | E12: =IF(D12=Input!$C$9,B12*C12*Input!$B$9,B12*C12*Input!$B$10) -> 0 | G12: =Input!$B$3*0.5 -> 125 | H12: Jurist | I12: =IF(H12=Input!$C$9,F12*G12*Input!$B$9,F12*G12*Input!$B$10) -> 0 | J12: =B12*C12*Input!$B$9+Oppgaver!F12*Oppgaver!G12*Input!$B$9 -> 0
A13: Oppgaveløsningsseminar fak.oppg | C13: =Input!$B$3*0.5 -> 125 | D13: Jurist | E13: =IF(D13=Input!$C$9,B13*C13*Input!$B$9,B13*C13*Input!$B$10) -> 0 | G13: =Input!$B$3*0.5 -> 125 | H13: Jurist | I13: =IF(H13=Input!$C$9,F13*G13*Input!$B$9,F13*G13*Input!$B$10) -> 0 | J13: =B13*C13*Input!$B$9+Oppgaver!F13*Oppgaver!G13*Input!$B$9 -> 0
A15: JUS4111
A16: Metode og etikk
A17: Introduksjon (4111) | C17: =Input!$B$3*0.5 -> 125 | D17: Jurist | E17: =IF(D17=Input!$C$9,B17*C17*Input!$B$9,B17*C17*Input!$B$10) -> 0 | G17: =Input!$B$3*0.5 -> 125 | H17: Jurist | I17: =IF(H17=Input!$C$9,F17*G17*Input!$B$9,F17*G17*Input!$B$10) -> 0 | J17: =B17*C17*Input!$B$9+Oppgaver!F17*Oppgaver!G17*Input!$B$9 -> 0
A18: Metode | B18: 1 | C18: =Input!$B$3*0.5 -> 125 | D18: Jurist | E18: =IF(D18=Input!$C$9,B18*C18*Input!$B$9,B18*C18*Input!$B$10) -> 42500 | G18: =Input!$B$3*0.5 -> 125 | H18: Jurist | I18: =IF(H18=Input!$C$9,F18*G18*Input!$B$9,F18*G18*Input!$B$10) -> 0 | J18: =B18*C18*Input!$B$9+Oppgaver!F18*Oppgaver!G18*Input!$B$9 -> 42500
A19: Etikk | B19: 1 | C19: =Input!$B$3*0.5 -> 125 | D19: Jurist | E19: =IF(D19=Input!$C$9,B19*C19*Input!$B$9,B19*C19*Input!$B$10) -> 42500 | G19: =Input!$B$3*0.5 -> 125 | H19: Jurist | I19: =IF(H19=Input!$C$9,F19*G19*Input!$B$9,F19*G19*Input!$B$10) -> 0 | J19: =B19*C19*Input!$B$9+Oppgaver!F19*Oppgaver!G19*Input!$B$9 -> 42500
A20: Perspektivfag
A21: intro i rettsøkonomi/rettssosiologi | C21: =Input!$B$3*0.5 -> 125 | D21: Jurist | E21: =IF(D21=Input!$C$9,B21*C21*Input!$B$9,B21*C21*Input!$B$10) -> 0 | G21: =Input!$B$3*0.5 -> 125 | H21: Jurist | I21: =IF(H21=Input!$C$9,F21*G21*Input!$B$9,F21*G21*Input!$B$10) -> 0 | J21: =B21*C21*Input!$B$9+Oppgaver!F21*Oppgaver!G21*Input!$B$9 -> 0
A22: Rettssosiologi | B22: 0.5 | C22: =Input!$B$3*0.5 -> 125 | D22: Jurist | E22: =IF(D22=Input!$C$9,B22*C22*Input!$B$9,B22*C22*Input!$B$10) -> 21250 | G22: =Input!$B$3*0.5 -> 125 | H22: Jurist | I22: =IF(H22=Input!$C$9,F22*G22*Input!$B$9,F22*G22*Input!$B$10) -> 0 | J22: =B22*C22*Input!$B$9+Oppgaver!F22*Oppgaver!G22*Input!$B$9 -> 21250
A23: Rettsøkonomi | C23: =Input!$B$3*0.5 -> 125 | D23: Jurist | E23: =IF(D23=Input!$C$9,B23*C23*Input!$B$9,B23*C23*Input!$B$10) -> 0 | G23: =Input!$B$3*0.5 -> 125 | H23: Jurist | I23: =IF(H23=Input!$C$9,F23*G23*Input!$B$9,F23*G23*Input!$B$10) -> 0 | J23: =B23*C23*Input!$B$9+Oppgaver!F23*Oppgaver!G23*Input!$B$9 -> 0
A24: Rettsfilosofi | C24: =Input!$B$3*0.5 -> 125 | D24: Jurist | E24: =IF(D24=Input!$C$9,B24*C24*Input!$B$9,B24*C24*Input!$B$10) -> 0 | G24: =Input!$B$3*0.5 -> 125 | H24: Jurist | I24: =IF(H24=Input!$C$9,F24*G24*Input!$B$9,F24*G24*Input!$B$10) -> 0 | J24: =B24*C24*Input!$B$9+Oppgaver!F24*Oppgaver!G24*Input!$B$9 -> 0
A25: Manuduksjoner (spørretime) Metode | C25: =Input!$B$3*0.5 -> 125 | D25: Jurist | E25: =IF(D25=Input!$C$9,B25*C25*Input!$B$9,B25*C25*Input!$B$10) -> 0 | G25: =Input!$B$3*0.5 -> 125 | H25: Jurist | I25: =IF(H25=Input!$C$9,F25*G25*Input!$B$9,F25*G25*Input!$B$10) -> 0 | J25: =B25*C25*Input!$B$9+Oppgaver!F25*Oppgaver!G25*Input!$B$9 -> 0
A26: Oppgaveløsningsseminar fak.oppg | C26: =Input!$B$3*0.5 -> 125 | D26: Jurist | E26: =IF(D26=Input!$C$9,B26*C26*Input!$B$9,B26*C26*Input!$B$10) -> 0 | G26: =Input!$B$3*0.5 -> 125 | H26: Jurist | I26: =IF(H26=Input!$C$9,F26*G26*Input!$B$9,F26*G26*Input!$B$10) -> 0 | J26: =B26*C26*Input!$B$9+Oppgaver!F26*Oppgaver!G26*Input!$B$9 -> 0
A27: Totalt | B27: =SUM(B5:B26) -> 5.5 | E27: =SUM(E5:E26) -> 233750 | F27: =SUM(F5:F26) -> 0 | I27: =SUM(I5:I26) -> 0 | J27: =SUM(J5:J26) -> 233750

Sheet Oversikt
D1: Sammenligningspunkter
A2: Aktivitet | B2: Kostnad kr | D2: Budsjett 2018 | E2: Budsjett 2017 | F2: Budsjett 2016
A3: Forelesning | B3: =Forelesning!C28 -> 293150 | D3: 334150 | E3: 334150 | F3: 330050
A4: Kurs | B4: =Kurs!E27 -> 1585333.3 | D4: 1840770 | E4: 1840770 | F4: 1783825
A5: Smågrupper | B5: =Smågrupper!E27 -> 0
A6: Eksamen | B6: =Eksamen!H6 -> 1224550.9 | D6: 1191592 | E6: 1337457 | F6: 1118342 | H6: Måltall totalkostnad
A7: Oppgaver | B7: =Oppgaver!J27 -> 233750 | D7: 425000 | E7: 425000 | F7: 425000 | H7: 2020 | I7: 2021 | J7: 2022 | K7: 2023
B8: =SUM(B3:B7) -> 3336784.2 | D8: =SUM(D3:D7) -> 3791512 | E8: =SUM(E3:E7) -> 3937377 | F8: =SUM(F3:F7) -> 3657217
A10: Kostnad pr student | B10: =B8/Input!B3 -> 13347.137 | D10: =D8/215 -> 17634.94 | E10: =E8/250 -> 15749.508 | F10: =F8/250 -> 14628.868
A11: Undervisnings-kostnad pr student | B11: =(B8-B6)/Input!B3 -> 8448.9333 | D11: =(D8-D6)/250 -> 10399.68 | E11: =(E8-E6)/250 -> 10399.68 | F11: =(F8-F6)/250 -> 10155.5
A12: Eksamens-kostnad pr student | B12: =B6/Input!B3 -> 4898.2035 | D12: =D6/250 -> 4766.368 | E12: =E6/250 -> 5349.828 | F12: =F6/250 -> 4473.368
A13: Herav gjentaks-kostnad | B13: =Eksamen!I6/Input!B3 -> 691.16861 | D13: =172200/250 -> 688.8 | E13: =231663/250 -> 926.652 | F13: =181820/250 -> 727.28
H14: Undervisningsaktiviteter til hver student pr studieår 2019
I15: Timer undervisning | J15: SP | K15: Timer pr SP | L15: Prosent av høyeste antall timer | M15: Prosent av høyeste antall timer pr SP | N15: Antall oppgaver | O15: Prosent av høyeste antall
H16: År 1 | I16: =115+136+24 -> 275 | J16: 50 | K16: =I16/50 -> 5.5 | L16: =I16/$I$16 -> 1 | M16: =K16/$K$16 -> 1 | N16: =6+6 -> 12 | O16: =N16/$N$16 -> 1
H17: År 2 | I17: =139+110+4 -> 253 | J17: 60 | K17: =I17/60 -> 4.2166667 | L17: =I17/$I$16 -> 0.92 | M17: =K17/$K$16 -> 0.76666667 | N17: =3+3 -> 6 | O17: =N17/$N$16 -> 0.5
H18: År 3 | I18: =116+98 -> 214 | J18: 50 | K18: =I18/50 -> 4.28 | L18: =I18/$I$16 -> 0.77818182 | M18: =K18/$K$16 -> 0.77818182 | N18: =5+3 -> 8 | O18: =N18/$N$16 -> 0.66666667
H19: År 4 | I19: =130+89 -> 219 | J19: 50 | K19: =I19/50 -> 4.38 | L19: =I19/$I$16 -> 0.79636364 | M19: =K19/$K$16 -> 0.79636364 | N19: =5.5 -> 5.5 | O19: =N19/$N$16 -> 0.45833333
